BEGIN:VCALENDAR
VERSION:2.0
PRODID:-//Work, Shop, Play | Inspired Real Estate - ECPv6.15.20//NONSGML v1.0//EN
CALSCALE:GREGORIAN
METHOD:PUBLISH
X-ORIGINAL-URL:https://bell.works
X-WR-CALDESC:Events for Work, Shop, Play | Inspired Real Estate
REFRESH-INTERVAL;VALUE=DURATION:PT1H
X-Robots-Tag:noindex
X-PUBLISHED-TTL:PT1H
BEGIN:VTIMEZONE
TZID:America/New_York
BEGIN:DAYLIGHT
TZOFFSETFROM:-0500
TZOFFSETTO:-0400
TZNAME:EDT
DTSTART:20220313T070000
END:DAYLIGHT
BEGIN:STANDARD
TZOFFSETFROM:-0400
TZOFFSETTO:-0500
TZNAME:EST
DTSTART:20221106T060000
END:STANDARD
BEGIN:DAYLIGHT
TZOFFSETFROM:-0500
TZOFFSETTO:-0400
TZNAME:EDT
DTSTART:20230312T070000
END:DAYLIGHT
BEGIN:STANDARD
TZOFFSETFROM:-0400
TZOFFSETTO:-0500
TZNAME:EST
DTSTART:20231105T060000
END:STANDARD
BEGIN:DAYLIGHT
TZOFFSETFROM:-0500
TZOFFSETTO:-0400
TZNAME:EDT
DTSTART:20240310T070000
END:DAYLIGHT
BEGIN:STANDARD
TZOFFSETFROM:-0400
TZOFFSETTO:-0500
TZNAME:EST
DTSTART:20241103T060000
END:STANDARD
END:VTIMEZONE
BEGIN:VEVENT
DTSTART;TZID=America/New_York:20230223T180000
DTEND;TZID=America/New_York:20230223T210000
DTSTAMP:20260422T181359
CREATED:20230201T034308Z
LAST-MODIFIED:20230201T034308Z
UID:16018-1677175200-1677186000@bell.works
SUMMARY:Hawaiian Night at Bar Bella
DESCRIPTION:Enjoy Hawaiian Night at Bar Bella geaturing The Suyat Band from 6-9pm! Come early\, the bar opens at 4pm!
URL:https://bell.works/events/hawaiian-night-at-bar-bella/
LOCATION:Bar Bella
CATEGORIES:New Jersey
ATTACH;FMTTYPE=image/jpeg:https://bell.works/wp-content/uploads/2021/01/0114.jpg
END:VEVENT
BEGIN:VEVENT
DTSTART;TZID=America/New_York:20230223T183000
DTEND;TZID=America/New_York:20230223T191500
DTSTAMP:20260422T181359
CREATED:20230201T030411Z
LAST-MODIFIED:20230201T030411Z
UID:16003-1677177000-1677179700@bell.works
SUMMARY:Pop-up Zumba Class
DESCRIPTION:End your day dancing in FitLab’s pop-up Zumba Class with Andrew on Thursday February 9th and 23rd from 6:30pm-7:15pm.  \nPlease email jackie.steffen@kinemafitness.com to register.
URL:https://bell.works/events/pop-up-zumba-class-2/
LOCATION:Bell Works Chicagoland\, 2000 Center Dr\, Hoffman Estates\, IL\, 60192\, United States
CATEGORIES:Chicagoland
ATTACH;FMTTYPE=image/jpeg:https://bell.works/wp-content/uploads/2022/05/geert-pieters-NbpUM86Jo8Y-unsplash-1.jpg
END:VEVENT
END:VCALENDAR