BEGIN:VCALENDAR
VERSION:2.0
PRODID:-//Work, Shop, Play | Inspired Real Estate - ECPv6.15.20//NONSGML v1.0//EN
CALSCALE:GREGORIAN
METHOD:PUBLISH
X-WR-CALNAME:Work, Shop, Play | Inspired Real Estate
X-ORIGINAL-URL:https://bell.works
X-WR-CALDESC:Events for Work, Shop, Play | Inspired Real Estate
REFRESH-INTERVAL;VALUE=DURATION:PT1H
X-Robots-Tag:noindex
X-PUBLISHED-TTL:PT1H
BEGIN:VTIMEZONE
TZID:America/New_York
BEGIN:DAYLIGHT
TZOFFSETFROM:-0500
TZOFFSETTO:-0400
TZNAME:EDT
DTSTART:20230312T070000
END:DAYLIGHT
BEGIN:STANDARD
TZOFFSETFROM:-0400
TZOFFSETTO:-0500
TZNAME:EST
DTSTART:20231105T060000
END:STANDARD
BEGIN:DAYLIGHT
TZOFFSETFROM:-0500
TZOFFSETTO:-0400
TZNAME:EDT
DTSTART:20240310T070000
END:DAYLIGHT
BEGIN:STANDARD
TZOFFSETFROM:-0400
TZOFFSETTO:-0500
TZNAME:EST
DTSTART:20241103T060000
END:STANDARD
BEGIN:DAYLIGHT
TZOFFSETFROM:-0500
TZOFFSETTO:-0400
TZNAME:EDT
DTSTART:20250309T070000
END:DAYLIGHT
BEGIN:STANDARD
TZOFFSETFROM:-0400
TZOFFSETTO:-0500
TZNAME:EST
DTSTART:20251102T060000
END:STANDARD
END:VTIMEZONE
BEGIN:VEVENT
DTSTART;TZID=America/New_York:20241221T120000
DTEND;TZID=America/New_York:20241221T170000
DTSTAMP:20260424T230335
CREATED:20241130T210754Z
LAST-MODIFIED:20241130T210924Z
UID:19533-1734782400-1734800400@bell.works
SUMMARY:Bell Works Fresh Saturday Holiday Market
DESCRIPTION:Shop local makers\, bakers\, and artists from 12-5pm in the Main Atrium on Saturday December 21 while enjoying live music 1-4pm with the Black Ties for Bell Works Fresh Holiday Market! \nThen join us at Bar Bella for sips + live music by Candice lee Duo starting at 5pm!
URL:https://bell.works/events/bell-works-fresh-saturday-holiday-market-4/
CATEGORIES:New Jersey
ATTACH;FMTTYPE=image/jpeg:https://bell.works/wp-content/uploads/2024/11/untitled-86-1-scaled.jpg
END:VEVENT
BEGIN:VEVENT
DTSTART;TZID=America/New_York:20241221T120000
DTEND;TZID=America/New_York:20241221T170000
DTSTAMP:20260424T230335
CREATED:20241213T195536Z
LAST-MODIFIED:20241213T221647Z
UID:19647-1734782400-1734800400@bell.works
SUMMARY:Sip + Shop with Velvet Boutique
DESCRIPTION:Celebrate the Season in Style! \nJoin Velvet for an exclusive Holiday Gifting Suite Sip & Shop on December 21 from 12-5pm\, in collaboration with Sugar on the Rim NJ. This is the perfect way to enjoy the holidays—relax\, shop\, and sip while finding the perfect gifts for everyone on your list! \nRegister here!
URL:https://bell.works/events/sip-shop-with-velvet-boutique/
CATEGORIES:New Jersey
ATTACH;FMTTYPE=image/jpeg:https://bell.works/wp-content/uploads/2024/12/DSC09249-scaled.jpg
END:VEVENT
BEGIN:VEVENT
DTSTART;TZID=America/New_York:20241221T170000
DTEND;TZID=America/New_York:20241221T200000
DTSTAMP:20260424T230335
CREATED:20241130T211057Z
LAST-MODIFIED:20241130T211203Z
UID:19534-1734800400-1734811200@bell.works
SUMMARY:Sundown Sessions: feat. Candice Lee Duo
DESCRIPTION:Enjoy live music featuring Candice Lee Duo at Bar Bella from 5-8pm! The bar opens at 4pm!
URL:https://bell.works/events/sundown-sessions-feat-candice-lee-duo/
CATEGORIES:New Jersey
ATTACH;FMTTYPE=image/jpeg:https://bell.works/wp-content/uploads/2024/11/israel-palacio-Y20JJ_ddy9M-unsplash-scaled.jpg
END:VEVENT
END:VCALENDAR