BEGIN:VCALENDAR
VERSION:2.0
PRODID:-//Work, Shop, Play | Inspired Real Estate - ECPv6.15.20//NONSGML v1.0//EN
CALSCALE:GREGORIAN
METHOD:PUBLISH
X-WR-CALNAME:Work, Shop, Play | Inspired Real Estate
X-ORIGINAL-URL:https://bell.works
X-WR-CALDESC:Events for Work, Shop, Play | Inspired Real Estate
REFRESH-INTERVAL;VALUE=DURATION:PT1H
X-Robots-Tag:noindex
X-PUBLISHED-TTL:PT1H
BEGIN:VTIMEZONE
TZID:America/New_York
BEGIN:DAYLIGHT
TZOFFSETFROM:-0500
TZOFFSETTO:-0400
TZNAME:EDT
DTSTART:20240310T070000
END:DAYLIGHT
BEGIN:STANDARD
TZOFFSETFROM:-0400
TZOFFSETTO:-0500
TZNAME:EST
DTSTART:20241103T060000
END:STANDARD
BEGIN:DAYLIGHT
TZOFFSETFROM:-0500
TZOFFSETTO:-0400
TZNAME:EDT
DTSTART:20250309T070000
END:DAYLIGHT
BEGIN:STANDARD
TZOFFSETFROM:-0400
TZOFFSETTO:-0500
TZNAME:EST
DTSTART:20251102T060000
END:STANDARD
BEGIN:DAYLIGHT
TZOFFSETFROM:-0500
TZOFFSETTO:-0400
TZNAME:EDT
DTSTART:20260308T070000
END:DAYLIGHT
BEGIN:STANDARD
TZOFFSETFROM:-0400
TZOFFSETTO:-0500
TZNAME:EST
DTSTART:20261101T060000
END:STANDARD
END:VTIMEZONE
BEGIN:VEVENT
DTSTART;TZID=America/New_York:20250625T110000
DTEND;TZID=America/New_York:20250625T160000
DTSTAMP:20260424T093701
CREATED:20250523T123137Z
LAST-MODIFIED:20250523T123159Z
UID:20860-1750849200-1750867200@bell.works
SUMMARY:Bell Works Fresh Market
DESCRIPTION:Join us at the weekly Wednesday Bell Works Fresh Market in the Main Atrium from 11am to 4pm where you can shop local makers\, bakers\, creators and more! \nEnjoy live music 12-3pm!
URL:https://bell.works/events/bell-works-fresh-market-12/
CATEGORIES:New Jersey
ATTACH;FMTTYPE=image/jpeg:https://bell.works/wp-content/uploads/2025/05/517A4081-scaled.jpg
END:VEVENT
BEGIN:VEVENT
DTSTART;TZID=America/New_York:20250625T160000
DTEND;TZID=America/New_York:20250625T180000
DTSTAMP:20260424T093701
CREATED:20250530T141156Z
LAST-MODIFIED:20250530T141305Z
UID:20905-1750867200-1750874400@bell.works
SUMMARY:Ping Pong Open House
DESCRIPTION:Fit Lab presents: Ping Pong Open House! \nMeet us every Wednesday starting June 4 from 4pm-6pm in Fit Lab! \nJoin us for a high-energy open house featuring ping pong matches\, fun challenges\, and light refreshments! Whether you’re a beginner or a seasoned player\, swing by for some friendly competition\, movement\, and community fun. All skill levels welcome! \nOpen to all! Please email fitlab@kinemafitness.com for more info.
URL:https://bell.works/events/ping-pong-open-house-4/
CATEGORIES:Chicagoland
ATTACH;FMTTYPE=image/png:https://bell.works/wp-content/uploads/2025/05/Screenshot-2025-05-30-184710.png
END:VEVENT
BEGIN:VEVENT
DTSTART;TZID=America/New_York:20250625T170000
DTEND;TZID=America/New_York:20250625T170000
DTSTAMP:20260424T093701
CREATED:20250523T123240Z
LAST-MODIFIED:20250623T183506Z
UID:20861-1750870800-1750870800@bell.works
SUMMARY:Bell Works Annual Fireworks
DESCRIPTION:Red\, White\, BOOM! \nJoin us for the annual Bell Works fireworks display on Wednesday June 25! \nPark in purple + blue lots\, and head over to yellow + red lots to enjoy fireworks\, planned for around 9:15pm. \nThe Block* will be open for all to come inside to cool down\, use the restrooms\, grab a bite\, try out some of our entertainment concepts\, and grab a drink from Bar Bella Inverno while enjoying a live set by DJ Pepeloco from 5-9pm. There will also be a bounce house on the Turf for the kids! \nThe Roof Deck is reserved for a private event\, but will open to the public once the fireworks display concludes. Then\, all are welcome to join us for an after-party on the Roof Deck for sips from Bar Bella + Mabel and live music feat. DJ Chelli! \nChairs welcome in dedicated viewing area. No open flames\, please! \n*Explore The Block during the fireworks:\nAPAA will be hosting an Open House + Showcase starting at 7pm! It will be open for the community to enjoy!\nARMR Studios will be having an Open House!\nStop by At Your Convenience from 7am – 11pm for snacks\, drinks\, and more!\nGrab a bite from Corbo & Sons\, Jozu\, Jersey Freeze\, Estrella Azul\, Mabel\, Miznon\, and Mezza Luna! Please note our eateries are open until the fireworks or while supplies last! \nRain date: Thursday June 26
URL:https://bell.works/events/bell-works-annual-fireworks/
CATEGORIES:New Jersey
ATTACH;FMTTYPE=image/jpeg:https://bell.works/wp-content/uploads/2025/05/untitled-130-scaled.jpg
END:VEVENT
END:VCALENDAR