BEGIN:VCALENDAR
VERSION:2.0
PRODID:-//Work, Shop, Play | Inspired Real Estate - ECPv6.15.20//NONSGML v1.0//EN
CALSCALE:GREGORIAN
METHOD:PUBLISH
X-WR-CALNAME:Work, Shop, Play | Inspired Real Estate
X-ORIGINAL-URL:https://bell.works
X-WR-CALDESC:Events for Work, Shop, Play | Inspired Real Estate
REFRESH-INTERVAL;VALUE=DURATION:PT1H
X-Robots-Tag:noindex
X-PUBLISHED-TTL:PT1H
BEGIN:VTIMEZONE
TZID:America/New_York
BEGIN:DAYLIGHT
TZOFFSETFROM:-0500
TZOFFSETTO:-0400
TZNAME:EDT
DTSTART:20240310T070000
END:DAYLIGHT
BEGIN:STANDARD
TZOFFSETFROM:-0400
TZOFFSETTO:-0500
TZNAME:EST
DTSTART:20241103T060000
END:STANDARD
BEGIN:DAYLIGHT
TZOFFSETFROM:-0500
TZOFFSETTO:-0400
TZNAME:EDT
DTSTART:20250309T070000
END:DAYLIGHT
BEGIN:STANDARD
TZOFFSETFROM:-0400
TZOFFSETTO:-0500
TZNAME:EST
DTSTART:20251102T060000
END:STANDARD
BEGIN:DAYLIGHT
TZOFFSETFROM:-0500
TZOFFSETTO:-0400
TZNAME:EDT
DTSTART:20260308T070000
END:DAYLIGHT
BEGIN:STANDARD
TZOFFSETFROM:-0400
TZOFFSETTO:-0500
TZNAME:EST
DTSTART:20261101T060000
END:STANDARD
END:VTIMEZONE
BEGIN:VEVENT
DTSTART;TZID=America/New_York:20251112T110000
DTEND;TZID=America/New_York:20251112T150000
DTSTAMP:20260420T201309
CREATED:20251105T121123Z
LAST-MODIFIED:20251106T161505Z
UID:21877-1762945200-1762959600@bell.works
SUMMARY:Rivian x Bell Works
DESCRIPTION:Join us + the Rivian team for a test drive around Bell Works on November 12 from 11am-3pm! \nRegister here – Limited spots available!
URL:https://bell.works/events/rivian-x-bell-works-3/
CATEGORIES:New Jersey
ATTACH;FMTTYPE=image/jpeg:https://bell.works/wp-content/uploads/2025/10/eVtgF4Y0.jpeg
END:VEVENT
BEGIN:VEVENT
DTSTART;TZID=America/New_York:20251112T110000
DTEND;TZID=America/New_York:20251112T160000
DTSTAMP:20260420T201309
CREATED:20251030T105431Z
LAST-MODIFIED:20251030T105449Z
UID:21826-1762945200-1762963200@bell.works
SUMMARY:Bell Works Fresh Market
DESCRIPTION:Join us at the Weekly Wednesday Bell Works Fresh Market in the Main Atrium from 11am to 4pm where you can shop local makers\, bakers\, creators and more! \nEnjoy live music from 12-3pm!
URL:https://bell.works/events/bell-works-fresh-market-32/
CATEGORIES:New Jersey
ATTACH;FMTTYPE=image/jpeg:https://bell.works/wp-content/uploads/2025/09/5NyZ0e9U.jpeg
END:VEVENT
BEGIN:VEVENT
DTSTART;TZID=America/New_York:20251112T160000
DTEND;TZID=America/New_York:20251112T190000
DTSTAMP:20260420T201309
CREATED:20251030T105743Z
LAST-MODIFIED:20251030T105813Z
UID:21828-1762963200-1762974000@bell.works
SUMMARY:Sundown Sessions: Justine Ewald
DESCRIPTION:Grab a cocktail and enjoy the sounds of Justine Ewald at Bell Market from 4-7pm! \nSips + bites available for purchase!
URL:https://bell.works/events/sundown-sessions-justine-ewald-6/
CATEGORIES:Chicagoland
ATTACH;FMTTYPE=image/jpeg:https://bell.works/wp-content/uploads/2024/04/20240320_Bell-Works-Garden-Party_530-1-scaled-e1714418050165.jpg
END:VEVENT
END:VCALENDAR