BEGIN:VCALENDAR
VERSION:2.0
PRODID:-//Work, Shop, Play | Inspired Real Estate - ECPv6.15.20//NONSGML v1.0//EN
CALSCALE:GREGORIAN
METHOD:PUBLISH
X-ORIGINAL-URL:https://bell.works
X-WR-CALDESC:Events for Work, Shop, Play | Inspired Real Estate
REFRESH-INTERVAL;VALUE=DURATION:PT1H
X-Robots-Tag:noindex
X-PUBLISHED-TTL:PT1H
BEGIN:VTIMEZONE
TZID:America/New_York
BEGIN:DAYLIGHT
TZOFFSETFROM:-0500
TZOFFSETTO:-0400
TZNAME:EDT
DTSTART:20250309T070000
END:DAYLIGHT
BEGIN:STANDARD
TZOFFSETFROM:-0400
TZOFFSETTO:-0500
TZNAME:EST
DTSTART:20251102T060000
END:STANDARD
BEGIN:DAYLIGHT
TZOFFSETFROM:-0500
TZOFFSETTO:-0400
TZNAME:EDT
DTSTART:20260308T070000
END:DAYLIGHT
BEGIN:STANDARD
TZOFFSETFROM:-0400
TZOFFSETTO:-0500
TZNAME:EST
DTSTART:20261101T060000
END:STANDARD
BEGIN:DAYLIGHT
TZOFFSETFROM:-0500
TZOFFSETTO:-0400
TZNAME:EDT
DTSTART:20270314T070000
END:DAYLIGHT
BEGIN:STANDARD
TZOFFSETFROM:-0400
TZOFFSETTO:-0500
TZNAME:EST
DTSTART:20271107T060000
END:STANDARD
END:VTIMEZONE
BEGIN:VEVENT
DTSTART;TZID=America/New_York:20260408T110000
DTEND;TZID=America/New_York:20260408T160000
DTSTAMP:20260422T114807
CREATED:20260330T115137Z
LAST-MODIFIED:20260330T115205Z
UID:22664-1775646000-1775664000@bell.works
SUMMARY:Bell Works Fresh Wednesday Market
DESCRIPTION:Join us at the weekly Wednesday Bell Works Fresh Market in the Main Atrium from 11am to 4pm where you can shop local makers\, bakers\, creators\, and more! \nEnjoy live music 12-3pm!
URL:https://bell.works/events/bell-works-fresh-wednesday-market-8/
CATEGORIES:New Jersey
ATTACH;FMTTYPE=image/jpeg:https://bell.works/wp-content/uploads/2026/02/517A4081.jpg
END:VEVENT
BEGIN:VEVENT
DTSTART;TZID=America/New_York:20260408T173000
DTEND;TZID=America/New_York:20260408T193000
DTSTAMP:20260422T114807
CREATED:20260330T173754Z
LAST-MODIFIED:20260330T173819Z
UID:22700-1775669400-1775676600@bell.works
SUMMARY:Trivia Wednesday
DESCRIPTION:Join us + Anti Normal Trivia every Wednesday for Trivia Night at Bell Market from 5:30-7:30pm! \nCome early for sign-up and enjoy a Happy Hour menu from 3-6pm at Bell Market!
URL:https://bell.works/events/trivia-wednesday-9/
CATEGORIES:Chicagoland
ATTACH;FMTTYPE=image/jpeg:https://bell.works/wp-content/uploads/2026/02/ocotmvMy-1.jpeg
END:VEVENT
END:VCALENDAR