BEGIN:VCALENDAR
VERSION:2.0
PRODID:-//Work, Shop, Play | Inspired Real Estate - ECPv6.15.20//NONSGML v1.0//EN
CALSCALE:GREGORIAN
METHOD:PUBLISH
X-WR-CALNAME:Work, Shop, Play | Inspired Real Estate
X-ORIGINAL-URL:https://bell.works
X-WR-CALDESC:Events for Work, Shop, Play | Inspired Real Estate
REFRESH-INTERVAL;VALUE=DURATION:PT1H
X-Robots-Tag:noindex
X-PUBLISHED-TTL:PT1H
BEGIN:VTIMEZONE
TZID:America/New_York
BEGIN:DAYLIGHT
TZOFFSETFROM:-0500
TZOFFSETTO:-0400
TZNAME:EDT
DTSTART:20250309T070000
END:DAYLIGHT
BEGIN:STANDARD
TZOFFSETFROM:-0400
TZOFFSETTO:-0500
TZNAME:EST
DTSTART:20251102T060000
END:STANDARD
BEGIN:DAYLIGHT
TZOFFSETFROM:-0500
TZOFFSETTO:-0400
TZNAME:EDT
DTSTART:20260308T070000
END:DAYLIGHT
BEGIN:STANDARD
TZOFFSETFROM:-0400
TZOFFSETTO:-0500
TZNAME:EST
DTSTART:20261101T060000
END:STANDARD
BEGIN:DAYLIGHT
TZOFFSETFROM:-0500
TZOFFSETTO:-0400
TZNAME:EDT
DTSTART:20270314T070000
END:DAYLIGHT
BEGIN:STANDARD
TZOFFSETFROM:-0400
TZOFFSETTO:-0500
TZNAME:EST
DTSTART:20271107T060000
END:STANDARD
END:VTIMEZONE
BEGIN:VEVENT
DTSTART;TZID=America/New_York:20260412T090000
DTEND;TZID=America/New_York:20260412T170000
DTSTAMP:20260420T055129
CREATED:20260302T205526Z
LAST-MODIFIED:20260302T205526Z
UID:22587-1775984400-1776013200@bell.works
SUMMARY:Liquid Games Pokémon Market
DESCRIPTION:Join us and Liquid Games for their Liquid Games Pokémon Market on April 12 from 9am-5pm! \nPokémon Market returns on April 12 with 320+ tables of Pokémon TCG\, art\, plushies\, and collectibles. Enjoy a fun\, family-friendly atmosphere with free admission from 9am to 5pm\, perfect for shopping\, trading\, and connecting with fellow fans. Whether you’re a longtime collector or just getting started\, there’s something for everyone. \nLearn more here!
URL:https://bell.works/events/liquid-games-pokemon-market-2/
CATEGORIES:New Jersey
ATTACH;FMTTYPE=image/jpeg:https://bell.works/wp-content/uploads/2026/03/Bell-Works-Exterior-0025-Edit-HR-scaled.jpg
END:VEVENT
END:VCALENDAR