BEGIN:VCALENDAR
VERSION:2.0
PRODID:-//Work, Shop, Play | Inspired Real Estate - ECPv6.15.20//NONSGML v1.0//EN
CALSCALE:GREGORIAN
METHOD:PUBLISH
X-ORIGINAL-URL:https://bell.works
X-WR-CALDESC:Events for Work, Shop, Play | Inspired Real Estate
REFRESH-INTERVAL;VALUE=DURATION:PT1H
X-Robots-Tag:noindex
X-PUBLISHED-TTL:PT1H
BEGIN:VTIMEZONE
TZID:America/New_York
BEGIN:DAYLIGHT
TZOFFSETFROM:-0500
TZOFFSETTO:-0400
TZNAME:EDT
DTSTART:20250309T070000
END:DAYLIGHT
BEGIN:STANDARD
TZOFFSETFROM:-0400
TZOFFSETTO:-0500
TZNAME:EST
DTSTART:20251102T060000
END:STANDARD
BEGIN:DAYLIGHT
TZOFFSETFROM:-0500
TZOFFSETTO:-0400
TZNAME:EDT
DTSTART:20260308T070000
END:DAYLIGHT
BEGIN:STANDARD
TZOFFSETFROM:-0400
TZOFFSETTO:-0500
TZNAME:EST
DTSTART:20261101T060000
END:STANDARD
BEGIN:DAYLIGHT
TZOFFSETFROM:-0500
TZOFFSETTO:-0400
TZNAME:EDT
DTSTART:20270314T070000
END:DAYLIGHT
BEGIN:STANDARD
TZOFFSETFROM:-0400
TZOFFSETTO:-0500
TZNAME:EST
DTSTART:20271107T060000
END:STANDARD
END:VTIMEZONE
BEGIN:VEVENT
DTSTART;TZID=America/New_York:20260423T100000
DTEND;TZID=America/New_York:20260423T140000
DTSTAMP:20260420T152703
CREATED:20260330T164423Z
LAST-MODIFIED:20260331T210933Z
UID:22683-1776938400-1776952800@bell.works
SUMMARY:Bring Your Child to Work Day
DESCRIPTION:Let your little ones see how you #workinspired by spending the day with you on The Block on April 23rd for Bring your Child to Work Day! \nLearn more about the offerings here!
URL:https://bell.works/events/bring-your-child-to-work-day-4/
CATEGORIES:New Jersey
ATTACH;FMTTYPE=image/jpeg:https://bell.works/wp-content/uploads/2026/03/0003-scaled-e1774889221683.jpg
END:VEVENT
BEGIN:VEVENT
DTSTART;TZID=America/New_York:20260423T100000
DTEND;TZID=America/New_York:20260423T140000
DTSTAMP:20260420T152703
CREATED:20260331T153604Z
LAST-MODIFIED:20260331T211644Z
UID:22716-1776938400-1776952800@bell.works
SUMMARY:Bring Your Child to Work Day
DESCRIPTION:Show your little ones how you #workinspired at Bell Works Chicagoland on April 23rd from 12-2pm for Bring Your Child to Work Day! \nLink to learn more & register here!
URL:https://bell.works/events/bring-your-child-to-work-day-5/
CATEGORIES:Chicagoland
ATTACH;FMTTYPE=image/jpeg:https://bell.works/wp-content/uploads/2026/03/0003-scaled-e1774889221683.jpg
END:VEVENT
BEGIN:VEVENT
DTSTART;TZID=America/New_York:20260423T160000
DTEND;TZID=America/New_York:20260423T190000
DTSTAMP:20260420T152703
CREATED:20260331T154429Z
LAST-MODIFIED:20260331T154502Z
UID:22717-1776960000-1776970800@bell.works
SUMMARY:Sip + Shop: Sundown Sessions: feat. DJ Groove Thang
DESCRIPTION:Grab a cocktail and enjoy the all-vinyl sounds of DJ Groove Thang at Bell Market from 4-7pm at Bell Market! \nShop DJ Groove Thang’s selection of vinyl record pop-up also from 4-7pm! \nSips + bites available for purchase with Bell Market!
URL:https://bell.works/events/sip-shop-sundown-sessions-feat-dj-groove-thang-2/
CATEGORIES:Chicagoland
ATTACH;FMTTYPE=image/avif:https://bell.works/wp-content/uploads/2025/10/photo-1582730147924-d92f4da00252.avif
END:VEVENT
BEGIN:VEVENT
DTSTART;TZID=America/New_York:20260423T170000
DTEND;TZID=America/New_York:20260423T200000
DTSTAMP:20260420T152703
CREATED:20260330T164740Z
LAST-MODIFIED:20260330T164851Z
UID:22686-1776963600-1776974400@bell.works
SUMMARY:Sundown Sessions at Bar Bella: feat. Meg Cannon
DESCRIPTION:Grab a cocktail and join us at Bar Bella for Sundown Sessions: feat. Meg Cannon from 5-8pm on Thursday April 23! \nCome early the bar opens at 4pm!
URL:https://bell.works/events/sundown-sessions-at-bar-bella-feat-meg-cannon/
CATEGORIES:New Jersey
ATTACH;FMTTYPE=image/jpeg:https://bell.works/wp-content/uploads/2026/03/jon-tyson-zoG585VYsV8-unsplash-scaled.jpg
END:VEVENT
END:VCALENDAR