BEGIN:VCALENDAR
VERSION:2.0
PRODID:-//Work, Shop, Play | Inspired Real Estate - ECPv6.15.20//NONSGML v1.0//EN
CALSCALE:GREGORIAN
METHOD:PUBLISH
X-WR-CALNAME:Work, Shop, Play | Inspired Real Estate
X-ORIGINAL-URL:https://bell.works
X-WR-CALDESC:Events for Work, Shop, Play | Inspired Real Estate
REFRESH-INTERVAL;VALUE=DURATION:PT1H
X-Robots-Tag:noindex
X-PUBLISHED-TTL:PT1H
BEGIN:VTIMEZONE
TZID:America/New_York
BEGIN:DAYLIGHT
TZOFFSETFROM:-0500
TZOFFSETTO:-0400
TZNAME:EDT
DTSTART:20220313T070000
END:DAYLIGHT
BEGIN:STANDARD
TZOFFSETFROM:-0400
TZOFFSETTO:-0500
TZNAME:EST
DTSTART:20221106T060000
END:STANDARD
BEGIN:DAYLIGHT
TZOFFSETFROM:-0500
TZOFFSETTO:-0400
TZNAME:EDT
DTSTART:20230312T070000
END:DAYLIGHT
BEGIN:STANDARD
TZOFFSETFROM:-0400
TZOFFSETTO:-0500
TZNAME:EST
DTSTART:20231105T060000
END:STANDARD
BEGIN:DAYLIGHT
TZOFFSETFROM:-0500
TZOFFSETTO:-0400
TZNAME:EDT
DTSTART:20240310T070000
END:DAYLIGHT
BEGIN:STANDARD
TZOFFSETFROM:-0400
TZOFFSETTO:-0500
TZNAME:EST
DTSTART:20241103T060000
END:STANDARD
END:VTIMEZONE
BEGIN:VTIMEZONE
TZID:America/Chicago
BEGIN:DAYLIGHT
TZOFFSETFROM:-0600
TZOFFSETTO:-0500
TZNAME:CDT
DTSTART:20220313T080000
END:DAYLIGHT
BEGIN:STANDARD
TZOFFSETFROM:-0500
TZOFFSETTO:-0600
TZNAME:CST
DTSTART:20221106T070000
END:STANDARD
BEGIN:DAYLIGHT
TZOFFSETFROM:-0600
TZOFFSETTO:-0500
TZNAME:CDT
DTSTART:20230312T080000
END:DAYLIGHT
BEGIN:STANDARD
TZOFFSETFROM:-0500
TZOFFSETTO:-0600
TZNAME:CST
DTSTART:20231105T070000
END:STANDARD
BEGIN:DAYLIGHT
TZOFFSETFROM:-0600
TZOFFSETTO:-0500
TZNAME:CDT
DTSTART:20240310T080000
END:DAYLIGHT
BEGIN:STANDARD
TZOFFSETFROM:-0500
TZOFFSETTO:-0600
TZNAME:CST
DTSTART:20241103T070000
END:STANDARD
END:VTIMEZONE
BEGIN:VEVENT
DTSTART;VALUE=DATE:20230101
DTEND;VALUE=DATE:20230201
DTSTAMP:20260425T161131
CREATED:20221229T182944Z
LAST-MODIFIED:20221229T184520Z
UID:15939-1672531200-1675209599@bell.works
SUMMARY:Move inspired in 2023
DESCRIPTION:Check in at FitLab! \nAll members receive a complimentary personal training session when you sign up for Fit Lab! \nHow it works:\nSend over a few goals you have for 2023 to jackie.steffen@kinemafitness.com\, schedule your session\, get entered into a raffle to win a self care wellness box!
URL:https://bell.works/events/move-inspired-in-2023/
LOCATION:Bell Works Chicagoland\, 2000 Center Dr\, Hoffman Estates\, IL\, 60192\, United States
CATEGORIES:Chicagoland
ATTACH;FMTTYPE=image/jpeg:https://bell.works/wp-content/uploads/2020/07/danielle-cerullo-CQfNt66ttZM-unsplash.jpg
END:VEVENT
BEGIN:VEVENT
DTSTART;TZID=America/New_York:20230118T163000
DTEND;TZID=America/New_York:20230118T173000
DTSTAMP:20260425T161131
CREATED:20221229T180520Z
LAST-MODIFIED:20230103T160549Z
UID:15937-1674059400-1674063000@bell.works
SUMMARY:New Year\, New Intentions
DESCRIPTION:Join us in FitLab for a complimentary Setting Intentions Meditation + Reiki Infused Workshop with Sarah and Angela. \nDiscovering your sankalpa (higher purpose) is a process of listening. Sankalpa is a positive declaration or affirmation\, a promise that we make to support our highest truth. Your heartfelt desire is already present\, waiting to be seen\, heard\, and felt. With the use of reiki and meditation\, together we will set powerful intentions to help guide us down the path toward living our purpose. \nSign up here or email jackie.steffen@kinemafitness.com
URL:https://bell.works/events/new-year-new-intentions/
LOCATION:Bell Works Chicagoland\, 2000 Center Dr\, Hoffman Estates\, IL\, 60192\, United States
CATEGORIES:Chicagoland
ATTACH;FMTTYPE=image/jpeg:https://bell.works/wp-content/uploads/2022/07/014.jpg
END:VEVENT
BEGIN:VEVENT
DTSTART;TZID=America/Chicago:20230131T083000
DTEND;TZID=America/Chicago:20230131T100000
DTSTAMP:20260425T161131
CREATED:20221104T112255Z
LAST-MODIFIED:20230116T151443Z
UID:15792-1675153800-1675159200@bell.works
SUMMARY:Morning Motivator
DESCRIPTION:Meet in coLab for our monthly Morning Motivator! \n“Culture is Prevention: Promoting a positive culture to support mental health in the workplace.” featuring the National Hispanic Suicide Prevention Network.\n \nRSVP Here!
URL:https://bell.works/events/morning-motivator-4/
LOCATION:Bell Works Chicagoland\, 2000 Center Dr\, Hoffman Estates\, IL\, 60192\, United States
CATEGORIES:Chicagoland
ATTACH;FMTTYPE=image/jpeg:https://bell.works/wp-content/uploads/2020/08/NPZ-Bellworks-07988-2-scaled.jpg
END:VEVENT
END:VCALENDAR