BEGIN:VCALENDAR
VERSION:2.0
PRODID:-//Work, Shop, Play | Inspired Real Estate - ECPv6.15.20//NONSGML v1.0//EN
CALSCALE:GREGORIAN
METHOD:PUBLISH
X-ORIGINAL-URL:https://bell.works
X-WR-CALDESC:Events for Work, Shop, Play | Inspired Real Estate
REFRESH-INTERVAL;VALUE=DURATION:PT1H
X-Robots-Tag:noindex
X-PUBLISHED-TTL:PT1H
BEGIN:VTIMEZONE
TZID:America/New_York
BEGIN:DAYLIGHT
TZOFFSETFROM:-0500
TZOFFSETTO:-0400
TZNAME:EDT
DTSTART:20220313T070000
END:DAYLIGHT
BEGIN:STANDARD
TZOFFSETFROM:-0400
TZOFFSETTO:-0500
TZNAME:EST
DTSTART:20221106T060000
END:STANDARD
BEGIN:DAYLIGHT
TZOFFSETFROM:-0500
TZOFFSETTO:-0400
TZNAME:EDT
DTSTART:20230312T070000
END:DAYLIGHT
BEGIN:STANDARD
TZOFFSETFROM:-0400
TZOFFSETTO:-0500
TZNAME:EST
DTSTART:20231105T060000
END:STANDARD
BEGIN:DAYLIGHT
TZOFFSETFROM:-0500
TZOFFSETTO:-0400
TZNAME:EDT
DTSTART:20240310T070000
END:DAYLIGHT
BEGIN:STANDARD
TZOFFSETFROM:-0400
TZOFFSETTO:-0500
TZNAME:EST
DTSTART:20241103T060000
END:STANDARD
END:VTIMEZONE
BEGIN:VTIMEZONE
TZID:America/Chicago
BEGIN:DAYLIGHT
TZOFFSETFROM:-0600
TZOFFSETTO:-0500
TZNAME:CDT
DTSTART:20220313T080000
END:DAYLIGHT
BEGIN:STANDARD
TZOFFSETFROM:-0500
TZOFFSETTO:-0600
TZNAME:CST
DTSTART:20221106T070000
END:STANDARD
BEGIN:DAYLIGHT
TZOFFSETFROM:-0600
TZOFFSETTO:-0500
TZNAME:CDT
DTSTART:20230312T080000
END:DAYLIGHT
BEGIN:STANDARD
TZOFFSETFROM:-0500
TZOFFSETTO:-0600
TZNAME:CST
DTSTART:20231105T070000
END:STANDARD
BEGIN:DAYLIGHT
TZOFFSETFROM:-0600
TZOFFSETTO:-0500
TZNAME:CDT
DTSTART:20240310T080000
END:DAYLIGHT
BEGIN:STANDARD
TZOFFSETFROM:-0500
TZOFFSETTO:-0600
TZNAME:CST
DTSTART:20241103T070000
END:STANDARD
END:VTIMEZONE
BEGIN:VEVENT
DTSTART;TZID=America/New_York:20230801T120000
DTEND;TZID=America/New_York:20230801T123000
DTSTAMP:20260420T234255
CREATED:20220512T002823Z
LAST-MODIFIED:20230731T175743Z
UID:15198-1690891200-1690893000@bell.works
SUMMARY:Monday Meditation
DESCRIPTION:4-week Meditation + Singing Bowl Series with Sarah at FitLab happening every Monday @ 12pm-12:30pm \nJoin us every Monday for the month of August to start your week off right with meditation + singing bowls at Fitlab at 12pm! Regular meditation practice has been linked to lower stress\, anxiety\, pain perception\, and blood pressure. It can also lead to better focus\, memory\, sleep\, emotional regulation\, and overall peace of mind. Join Sarah every Monday in August for a 30-minute class to relax and reset. \nOpen to the public! \nPlease email jackie.steffen@kinemafitness.com to register.
URL:https://bell.works/events/mindful-meditation-with-jenna-at-fitlab/
LOCATION:Bell Works Chicagoland\, 2000 Center Dr\, Hoffman Estates\, IL\, 60192\, United States
CATEGORIES:Chicagoland
ATTACH;FMTTYPE=image/jpeg:https://bell.works/wp-content/uploads/2022/05/conscious-design-VsI_74zRzAo-unsplash.jpg
END:VEVENT
BEGIN:VEVENT
DTSTART;TZID=America/New_York:20230808T120000
DTEND;TZID=America/New_York:20230808T123000
DTSTAMP:20260420T234255
CREATED:20230731T175811Z
LAST-MODIFIED:20230731T175811Z
UID:16439-1691496000-1691497800@bell.works
SUMMARY:Monday Meditation
DESCRIPTION:4-week Meditation + Singing Bowl Series with Sarah at FitLab happening every Monday @ 12pm-12:30pm \nJoin us every Monday for the month of August to start your week off right with meditation + singing bowls at Fitlab at 12pm! Regular meditation practice has been linked to lower stress\, anxiety\, pain perception\, and blood pressure. It can also lead to better focus\, memory\, sleep\, emotional regulation\, and overall peace of mind. Join Sarah every Monday in August for a 30-minute class to relax and reset. \nOpen to the public! \nPlease email jackie.steffen@kinemafitness.com to register.
URL:https://bell.works/events/monday-meditation/
LOCATION:Bell Works Chicagoland\, 2000 Center Dr\, Hoffman Estates\, IL\, 60192\, United States
CATEGORIES:Chicagoland
ATTACH;FMTTYPE=image/jpeg:https://bell.works/wp-content/uploads/2022/05/conscious-design-VsI_74zRzAo-unsplash.jpg
END:VEVENT
BEGIN:VEVENT
DTSTART;TZID=America/New_York:20230810T160000
DTEND;TZID=America/New_York:20230810T190000
DTSTAMP:20260420T234255
CREATED:20230802T193401Z
LAST-MODIFIED:20230802T193401Z
UID:16451-1691683200-1691694000@bell.works
SUMMARY:Game Night at World's Fair
DESCRIPTION:It’s time to #playinspired at World’s Fair! Grab your coworkers\, friends\, and family to enjoy a night of board games\, drinks\, and laughs from 4-7pm!
URL:https://bell.works/events/game-night-at-worlds-fair/
LOCATION:Bell Works\, 101 Crawfords Corner Rd\, Holmdel\, NJ\, 07733\, United States
CATEGORIES:Chicagoland
ATTACH;FMTTYPE=image/jpeg:https://bell.works/wp-content/uploads/2023/06/world-fair-hoffman0022-1.jpg
END:VEVENT
BEGIN:VEVENT
DTSTART;VALUE=DATE:20230814
DTEND;VALUE=DATE:20230901
DTSTAMP:20260420T234255
CREATED:20230801T012148Z
LAST-MODIFIED:20230801T012209Z
UID:16443-1691971200-1693526399@bell.works
SUMMARY:Golden Ticket Challenge
DESCRIPTION:Golden Ticket Challenge with FitLab x coLab x World’s Fair x Bell Street Brewing \nFrom August 14th – 31st\, Bell Works Chicagoland is partnering with our vendors to hide a golden ticket from each location.\nWe are challenging you to find one of those tickets!\nRegister to receive details and hints to where they are located. \nHow it works:\nThere will be 4 golden tickets hidden on the East side of the Bell Works property.\nTake a break and walk around to find one of the tickets. *one ticket per person.\nIf you found a ticket\, please bring it to Jake at coLab or Jackie in FitLab. \nLearn more when you sign up by emailing jackie.steffen@kinemafitness.com!
URL:https://bell.works/events/golden-ticket-challenge/
LOCATION:Bell Works Chicagoland\, 2000 Center Dr\, Hoffman Estates\, IL\, 60192\, United States
CATEGORIES:Chicagoland
ATTACH;FMTTYPE=image/jpeg:https://bell.works/wp-content/uploads/2023/06/world-fair-hoffman0001-1.jpg
END:VEVENT
BEGIN:VEVENT
DTSTART;TZID=America/New_York:20230815T120000
DTEND;TZID=America/New_York:20230815T123000
DTSTAMP:20260420T234255
CREATED:20230731T175836Z
LAST-MODIFIED:20230731T175836Z
UID:16440-1692100800-1692102600@bell.works
SUMMARY:Monday Meditation
DESCRIPTION:4-week Meditation + Singing Bowl Series with Sarah at FitLab happening every Monday @ 12pm-12:30pm \nJoin us every Monday for the month of August to start your week off right with meditation + singing bowls at Fitlab at 12pm! Regular meditation practice has been linked to lower stress\, anxiety\, pain perception\, and blood pressure. It can also lead to better focus\, memory\, sleep\, emotional regulation\, and overall peace of mind. Join Sarah every Monday in August for a 30-minute class to relax and reset. \nOpen to the public! \nPlease email jackie.steffen@kinemafitness.com to register.
URL:https://bell.works/events/monday-meditation-2/
LOCATION:Bell Works Chicagoland\, 2000 Center Dr\, Hoffman Estates\, IL\, 60192\, United States
CATEGORIES:Chicagoland
ATTACH;FMTTYPE=image/jpeg:https://bell.works/wp-content/uploads/2022/05/conscious-design-VsI_74zRzAo-unsplash.jpg
END:VEVENT
BEGIN:VEVENT
DTSTART;TZID=America/New_York:20230817T160000
DTEND;TZID=America/New_York:20230817T190000
DTSTAMP:20260420T234255
CREATED:20230802T193557Z
LAST-MODIFIED:20230815T163355Z
UID:16452-1692288000-1692298800@bell.works
SUMMARY:Havana night at World's Fair
DESCRIPTION:Vamos with us! Grab a drink and enjoy the latin sounds of Ring of Music at World’s Fair from 4-7pm!
URL:https://bell.works/events/havana-night-at-worlds-fair/
LOCATION:Bell Works Chicagoland\, 2000 Center Dr\, Hoffman Estates\, IL\, 60192\, United States
CATEGORIES:Chicagoland
ATTACH;FMTTYPE=image/jpeg:https://bell.works/wp-content/uploads/2020/08/DSC01638-1-1.jpg
END:VEVENT
BEGIN:VEVENT
DTSTART;TZID=America/New_York:20230818T160000
DTEND;TZID=America/New_York:20230818T170000
DTSTAMP:20260420T234255
CREATED:20220930T034210Z
LAST-MODIFIED:20230731T201900Z
UID:15689-1692374400-1692378000@bell.works
SUMMARY:Sunset Salutation + Sangria
DESCRIPTION:Sunset Salutation + Sangria on Friday\, August 18th @ 4pm at the World’s Fair patio! \nEnjoy a Restorative Yoga + Happy Hour! Centering allows you to soothe anxiety and calm the overactive mind.\nGrounding releases negative emotions and brings you to the present moment. Join Sarah for a 45-minute meditation+restorative yoga to reset\, relax and rejuvenate. \nAll participants will receive a swag bag! \nOpen to the public! \nSign up here or by emailing jackie.steffen@kinemafitness.com
URL:https://bell.works/events/yoga-brunch/
LOCATION:Bell Works Chicagoland\, 2000 Center Dr\, Hoffman Estates\, IL\, 60192\, United States
CATEGORIES:Chicagoland
ATTACH;FMTTYPE=image/jpeg:https://bell.works/wp-content/uploads/2022/05/dylan-gillis-YJdCZba0TYE-unsplash-1.jpg
END:VEVENT
BEGIN:VEVENT
DTSTART;TZID=America/New_York:20230822T120000
DTEND;TZID=America/New_York:20230822T123000
DTSTAMP:20260420T234255
CREATED:20230731T175858Z
LAST-MODIFIED:20230731T175858Z
UID:16441-1692705600-1692707400@bell.works
SUMMARY:Monday Meditation
DESCRIPTION:4-week Meditation + Singing Bowl Series with Sarah at FitLab happening every Monday @ 12pm-12:30pm \nJoin us every Monday for the month of August to start your week off right with meditation + singing bowls at Fitlab at 12pm! Regular meditation practice has been linked to lower stress\, anxiety\, pain perception\, and blood pressure. It can also lead to better focus\, memory\, sleep\, emotional regulation\, and overall peace of mind. Join Sarah every Monday in August for a 30-minute class to relax and reset. \nOpen to the public! \nPlease email jackie.steffen@kinemafitness.com to register.
URL:https://bell.works/events/monday-meditation-3/
LOCATION:Bell Works Chicagoland\, 2000 Center Dr\, Hoffman Estates\, IL\, 60192\, United States
CATEGORIES:Chicagoland
ATTACH;FMTTYPE=image/jpeg:https://bell.works/wp-content/uploads/2022/05/conscious-design-VsI_74zRzAo-unsplash.jpg
END:VEVENT
BEGIN:VEVENT
DTSTART;TZID=America/New_York:20230822T170000
DTEND;TZID=America/New_York:20230822T190000
DTSTAMP:20260420T234255
CREATED:20230802T193747Z
LAST-MODIFIED:20230816T130319Z
UID:16453-1692723600-1692730800@bell.works
SUMMARY:Friends' Trivia\, Paint\, + Sip
DESCRIPTION:Pinot’s Palette is coming to Bell Street Brewing from 5-7pm for a fun-filled night of painting\, sipping\, and trivia! Grab your friends\, coworkers\, and family and get ready to #paintinspired tonight! \nLink to register
URL:https://bell.works/events/friends-trivia-paint-sip/
CATEGORIES:Chicagoland
ATTACH;FMTTYPE=image/jpeg:https://bell.works/wp-content/uploads/2023/02/DSC00356-1-1.jpg
END:VEVENT
BEGIN:VEVENT
DTSTART;TZID=America/New_York:20230823T160000
DTEND;TZID=America/New_York:20230823T180000
DTSTAMP:20260420T234255
CREATED:20230710T014548Z
LAST-MODIFIED:20230802T193648Z
UID:16378-1692806400-1692813600@bell.works
SUMMARY:Yappy Hour at World's Fair
DESCRIPTION:It’s time for another Yappy Hour! Grab your furry ones and meet us at World’s Fair from 4-6pm for a pawty!
URL:https://bell.works/events/yappy-hour-at-worlds-fair/
LOCATION:Bell Works Chicagoland\, 2000 Center Dr\, Hoffman Estates\, IL\, 60192\, United States
CATEGORIES:Chicagoland
ATTACH;FMTTYPE=image/jpeg:https://bell.works/wp-content/uploads/2023/05/victor-grabarczyk-N04FIfHhv_k-unsplash.jpg
END:VEVENT
BEGIN:VEVENT
DTSTART;TZID=America/New_York:20230824T153000
DTEND;TZID=America/New_York:20230824T183000
DTSTAMP:20260420T234255
CREATED:20230221T013811Z
LAST-MODIFIED:20230822T221826Z
UID:16034-1692891000-1692901800@bell.works
SUMMARY:Social Hour
DESCRIPTION:Mingle with our community members from 3:30-6pm at World’s Fair for sips + bites! \nOpen to tenants + the public! \nLINK to Register!
URL:https://bell.works/events/social-hour/
LOCATION:Bell Works Chicagoland\, 2000 Center Dr\, Hoffman Estates\, IL\, 60192\, United States
CATEGORIES:Chicagoland
ATTACH;FMTTYPE=image/jpeg:https://bell.works/wp-content/uploads/2023/02/DSC00356-1-1.jpg
END:VEVENT
BEGIN:VEVENT
DTSTART;TZID=America/Chicago:20230829T080000
DTEND;TZID=America/Chicago:20230829T100000
DTSTAMP:20260420T234255
CREATED:20220930T033307Z
LAST-MODIFIED:20230731T174951Z
UID:15686-1693296000-1693303200@bell.works
SUMMARY:Morning Motivator
DESCRIPTION:Join us at 8am to listen to coLab member\, Pam Orr of Fellowship Housing for coLab’s monthly Morning Motivator! \nRegistration link coming soon!
URL:https://bell.works/events/morning-motivator-3/
LOCATION:Bell Works Chicagoland\, 2000 Center Dr\, Hoffman Estates\, IL\, 60192\, United States
CATEGORIES:Chicagoland
ATTACH;FMTTYPE=image/jpeg:https://bell.works/wp-content/uploads/2020/08/NPZ-Bellworks-07988-2-scaled.jpg
END:VEVENT
BEGIN:VEVENT
DTSTART;TZID=America/New_York:20230829T120000
DTEND;TZID=America/New_York:20230829T123000
DTSTAMP:20260420T234255
CREATED:20230731T201122Z
LAST-MODIFIED:20230731T201122Z
UID:16442-1693310400-1693312200@bell.works
SUMMARY:Monday Meditation
DESCRIPTION:4-week Meditation + Singing Bowl Series with Sarah at FitLab happening every Monday @ 12pm-12:30pm \nJoin us every Monday for the month of August to start your week off right with meditation + singing bowls at Fitlab at 12pm! Regular meditation practice has been linked to lower stress\, anxiety\, pain perception\, and blood pressure. It can also lead to better focus\, memory\, sleep\, emotional regulation\, and overall peace of mind. Join Sarah every Monday in August for a 30-minute class to relax and reset. \nOpen to the public! \nPlease email jackie.steffen@kinemafitness.com to register.
URL:https://bell.works/events/monday-meditation-4/
LOCATION:Bell Works Chicagoland\, 2000 Center Dr\, Hoffman Estates\, IL\, 60192\, United States
CATEGORIES:Chicagoland
ATTACH;FMTTYPE=image/jpeg:https://bell.works/wp-content/uploads/2022/05/conscious-design-VsI_74zRzAo-unsplash.jpg
END:VEVENT
END:VCALENDAR