BEGIN:VCALENDAR
VERSION:2.0
PRODID:-//Work, Shop, Play | Inspired Real Estate - ECPv6.15.20//NONSGML v1.0//EN
CALSCALE:GREGORIAN
METHOD:PUBLISH
X-ORIGINAL-URL:https://bell.works
X-WR-CALDESC:Events for Work, Shop, Play | Inspired Real Estate
REFRESH-INTERVAL;VALUE=DURATION:PT1H
X-Robots-Tag:noindex
X-PUBLISHED-TTL:PT1H
BEGIN:VTIMEZONE
TZID:America/New_York
BEGIN:DAYLIGHT
TZOFFSETFROM:-0500
TZOFFSETTO:-0400
TZNAME:EDT
DTSTART:20220313T070000
END:DAYLIGHT
BEGIN:STANDARD
TZOFFSETFROM:-0400
TZOFFSETTO:-0500
TZNAME:EST
DTSTART:20221106T060000
END:STANDARD
BEGIN:DAYLIGHT
TZOFFSETFROM:-0500
TZOFFSETTO:-0400
TZNAME:EDT
DTSTART:20230312T070000
END:DAYLIGHT
BEGIN:STANDARD
TZOFFSETFROM:-0400
TZOFFSETTO:-0500
TZNAME:EST
DTSTART:20231105T060000
END:STANDARD
BEGIN:DAYLIGHT
TZOFFSETFROM:-0500
TZOFFSETTO:-0400
TZNAME:EDT
DTSTART:20240310T070000
END:DAYLIGHT
BEGIN:STANDARD
TZOFFSETFROM:-0400
TZOFFSETTO:-0500
TZNAME:EST
DTSTART:20241103T060000
END:STANDARD
END:VTIMEZONE
BEGIN:VEVENT
DTSTART;TZID=America/New_York:20231011T170000
DTEND;TZID=America/New_York:20231011T200000
DTSTAMP:20260420T090409
CREATED:20231001T191638Z
LAST-MODIFIED:20231010T092918Z
UID:16811-1697043600-1697054400@bell.works
SUMMARY:Knit A Chunky Blanket at World's Fair
DESCRIPTION:Join Pinot’s Palette and learn how to knit a chunky blanket to stay cozy through the chilly months ahead! \nLink to register here!
URL:https://bell.works/events/knit-a-chunky-blanket-at-worlds-fair/
LOCATION:Bar Bella
CATEGORIES:Chicagoland
ATTACH;FMTTYPE=image/jpeg:https://bell.works/wp-content/uploads/2023/10/50606f3afe8526f8ed179d119ce1a7cc.jpg
END:VEVENT
BEGIN:VEVENT
DTSTART;TZID=America/New_York:20231012T160000
DTEND;TZID=America/New_York:20231012T190000
DTSTAMP:20260420T090409
CREATED:20231001T191904Z
LAST-MODIFIED:20231001T192708Z
UID:16813-1697126400-1697137200@bell.works
SUMMARY:Live Music @ World's Fair
DESCRIPTION:Start your weekend early to the sounds of AVOL at World’s Fair by Fairgrounds from 4-7pm!
URL:https://bell.works/events/live-music-worlds-fair-4/
LOCATION:Bar Bella
CATEGORIES:Chicagoland
ATTACH;FMTTYPE=image/png:https://bell.works/wp-content/uploads/2023/08/photo-1581548708095-7158f2e63857.png
END:VEVENT
BEGIN:VEVENT
DTSTART;TZID=America/New_York:20231012T160000
DTEND;TZID=America/New_York:20231012T190000
DTSTAMP:20260420T090409
CREATED:20231001T192139Z
LAST-MODIFIED:20231001T192610Z
UID:16814-1697126400-1697137200@bell.works
SUMMARY:PM Fall Favorites at World's Fair
DESCRIPTION:Happy Hour just got sweeter! From 4-7pm\, try an apple cider donut complimentary when you order a cocktail – then enjoy live music until 7pm!
URL:https://bell.works/events/pm-fall-favorites-at-worlds-fair/
LOCATION:Bar Bella
CATEGORIES:Chicagoland
ATTACH;FMTTYPE=image/jpeg:https://bell.works/wp-content/uploads/2023/10/tKTYLeVS-scaled.jpeg
END:VEVENT
BEGIN:VEVENT
DTSTART;TZID=America/New_York:20231014T120000
DTEND;TZID=America/New_York:20231014T180000
DTSTAMP:20260420T090409
CREATED:20231001T192758Z
LAST-MODIFIED:20231001T193046Z
UID:16820-1697284800-1697306400@bell.works
SUMMARY:Illinois Vintage Fest
DESCRIPTION:Spend your Fall weekend shopping 100+ local vintage brands from 12-6pm on Saturday October 14th and Sunday October 15th! \nIllinois Vintage Fest is home to over 100+ vendors of mostly vintage clothing\, but include artisans\, collectibles\, home goods\, and much more. \nBe sure to check out World’s Fair by Fairgrounds to grab a bite or a drink (everything from coffee to cocktails)! Vendors will be restocking for both days. This is still a free event. \nLearn more here
URL:https://bell.works/events/illinois-vintage-fest/
LOCATION:Bar Bella
CATEGORIES:Chicagoland
ATTACH;FMTTYPE=image/png:https://bell.works/wp-content/uploads/2023/10/photo-1520006403909-838d6b92c22e.png
END:VEVENT
BEGIN:VEVENT
DTSTART;TZID=America/New_York:20231015T120000
DTEND;TZID=America/New_York:20231015T180000
DTSTAMP:20260420T090409
CREATED:20231001T193107Z
LAST-MODIFIED:20231009T152521Z
UID:16823-1697371200-1697392800@bell.works
SUMMARY:Illinois Vintage Fest
DESCRIPTION:Spend your Fall weekend shopping 100+ local vintage brands from 12-6pm on Saturday October 14th and Sunday October 15th! \nIllinois Vintage Fest is home to mostly vintage clothing\, but includes artisans\, collectibles\, home goods\, and much more. \nBe sure to check out World’s Fair by Fairgrounds to grab a bite or a drink (everything from coffee to cocktails)! \nEvent is open to the public\, admission is complimentary! \nLearn more here
URL:https://bell.works/events/illinois-vintage-fest-2/
LOCATION:Bar Bella
CATEGORIES:Chicagoland
ATTACH;FMTTYPE=image/png:https://bell.works/wp-content/uploads/2023/10/photo-1520006403909-838d6b92c22e.png
END:VEVENT
BEGIN:VEVENT
DTSTART;TZID=America/New_York:20231018T150000
DTEND;TZID=America/New_York:20231018T190000
DTSTAMP:20260420T090409
CREATED:20231001T193349Z
LAST-MODIFIED:20231001T193602Z
UID:16824-1697641200-1697655600@bell.works
SUMMARY:ThinkToThink Masterclass
DESCRIPTION:Listen to an inspirational + influential guest speaker at Enclave Academy’s monthly Masterclass in Gather at 3:30pm. \nLink to register coming soon.
URL:https://bell.works/events/thinktothink-masterclass-2/
LOCATION:Bar Bella
CATEGORIES:Chicagoland
ATTACH;FMTTYPE=image/jpeg:https://bell.works/wp-content/uploads/2023/10/knwVuD7w.jpeg
END:VEVENT
BEGIN:VEVENT
DTSTART;TZID=America/New_York:20231018T160000
DTEND;TZID=America/New_York:20231018T190000
DTSTAMP:20260420T090409
CREATED:20231001T193640Z
LAST-MODIFIED:20231003T171219Z
UID:16826-1697644800-1697655600@bell.works
SUMMARY:Social Hour
DESCRIPTION:Connect with members of our community + beyond over sips\, bites\, and enjoy Trivia with Anti-Normal trivia at our monthly Social Hour at World’s Fair 4-7pm! \nRegistration for trivia is at 4:30pm.
URL:https://bell.works/events/social-hour-3/
LOCATION:Bar Bella
CATEGORIES:Chicagoland
ATTACH;FMTTYPE=image/jpeg:https://bell.works/wp-content/uploads/2023/10/tKTYLeVS-scaled.jpeg
END:VEVENT
BEGIN:VEVENT
DTSTART;TZID=America/New_York:20231020T160000
DTEND;TZID=America/New_York:20231020T183000
DTSTAMP:20260420T090409
CREATED:20231001T194230Z
LAST-MODIFIED:20231001T194337Z
UID:16828-1697817600-1697826600@bell.works
SUMMARY:Pilates\, Pumpkins\, and Prosecco with FitLab
DESCRIPTION:Join the FitLab team at World’s Fair at 4:15pm for a pilates class followed by pumpkin decorating and bubbles!
URL:https://bell.works/events/pilates-pumpkins-and-prosecco-with-fitlab-2/
LOCATION:Bar Bella
CATEGORIES:Chicagoland
ATTACH;FMTTYPE=image/png:https://bell.works/wp-content/uploads/2023/10/photo-1570586437263-ab629fccc818.png
END:VEVENT
BEGIN:VEVENT
DTSTART;TZID=America/New_York:20231025T160000
DTEND;TZID=America/New_York:20231025T190000
DTSTAMP:20260420T090409
CREATED:20231001T194632Z
LAST-MODIFIED:20231001T194853Z
UID:16831-1698249600-1698260400@bell.works
SUMMARY:Wine Wednesday with the Hoffman Estates Chamber of Commerce
DESCRIPTION:Join the Hoffman Estates Chamber of Commerce for their monthly meetup 4:30-6:30pm!
URL:https://bell.works/events/wine-wednesday-with-the-hoffman-estates-chamber-of-commerce/
LOCATION:Bar Bella
CATEGORIES:Chicagoland
ATTACH;FMTTYPE=image/png:https://bell.works/wp-content/uploads/2023/10/photo-1621644894301-cd6b2eaca610.png
END:VEVENT
BEGIN:VEVENT
DTSTART;TZID=America/New_York:20231026T080000
DTEND;TZID=America/New_York:20231026T100000
DTSTAMP:20260420T090409
CREATED:20231001T194431Z
LAST-MODIFIED:20231017T175922Z
UID:16829-1698307200-1698314400@bell.works
SUMMARY:Morning Motivator
DESCRIPTION:Start your morning off listening to Eric Broughton\, CEO of Ok2Charge\, at 8am for our monthly Morning Motivator! \nLINK to register!
URL:https://bell.works/events/morning-motivator-7/
LOCATION:Bar Bella
CATEGORIES:Chicagoland
ATTACH;FMTTYPE=image/jpeg:https://bell.works/wp-content/uploads/2023/10/hx4FwL2z.jpeg
END:VEVENT
BEGIN:VEVENT
DTSTART;TZID=America/New_York:20231026T170000
DTEND;TZID=America/New_York:20231026T200000
DTSTAMP:20260420T090409
CREATED:20231001T194922Z
LAST-MODIFIED:20231016T210040Z
UID:16834-1698339600-1698350400@bell.works
SUMMARY:Time Warp! Halloween Party
DESCRIPTION:Head to World’s Fair for a trip through the decades at the Bell Works Halloween Party 5-8pm! Dress up for a chance to win a prize! Admission is complimentary and open to the public! \nSips + Bites available for purchase. \nCostumes encouraged! \nLINK to register!
URL:https://bell.works/events/time-warp-halloween-party/
LOCATION:Bar Bella
CATEGORIES:Chicagoland
ATTACH;FMTTYPE=image/png:https://bell.works/wp-content/uploads/2023/10/10_26-image-BWC.png
END:VEVENT
BEGIN:VEVENT
DTSTART;TZID=America/New_York:20231030T150000
DTEND;TZID=America/New_York:20231030T170000
DTSTAMP:20260420T090409
CREATED:20231001T193849Z
LAST-MODIFIED:20231001T200730Z
UID:16827-1698678000-1698685200@bell.works
SUMMARY:Trick-or-Treat at Bell Works
DESCRIPTION:Bring your little ones in costume to trick-or-treat around the companies within Bell Works 3-5pm!
URL:https://bell.works/events/trick-or-treat-at-bell-works-3/
LOCATION:Bar Bella
CATEGORIES:Chicagoland
ATTACH;FMTTYPE=image/png:https://bell.works/wp-content/uploads/2023/10/photo-1509635776280-892e4447ff86-e1696190839285.png
END:VEVENT
END:VCALENDAR