BEGIN:VCALENDAR
VERSION:2.0
PRODID:-//Work, Shop, Play | Inspired Real Estate - ECPv6.15.20//NONSGML v1.0//EN
CALSCALE:GREGORIAN
METHOD:PUBLISH
X-WR-CALNAME:Work, Shop, Play | Inspired Real Estate
X-ORIGINAL-URL:https://bell.works
X-WR-CALDESC:Events for Work, Shop, Play | Inspired Real Estate
REFRESH-INTERVAL;VALUE=DURATION:PT1H
X-Robots-Tag:noindex
X-PUBLISHED-TTL:PT1H
BEGIN:VTIMEZONE
TZID:America/New_York
BEGIN:DAYLIGHT
TZOFFSETFROM:-0500
TZOFFSETTO:-0400
TZNAME:EDT
DTSTART:20220313T070000
END:DAYLIGHT
BEGIN:STANDARD
TZOFFSETFROM:-0400
TZOFFSETTO:-0500
TZNAME:EST
DTSTART:20221106T060000
END:STANDARD
BEGIN:DAYLIGHT
TZOFFSETFROM:-0500
TZOFFSETTO:-0400
TZNAME:EDT
DTSTART:20230312T070000
END:DAYLIGHT
BEGIN:STANDARD
TZOFFSETFROM:-0400
TZOFFSETTO:-0500
TZNAME:EST
DTSTART:20231105T060000
END:STANDARD
BEGIN:DAYLIGHT
TZOFFSETFROM:-0500
TZOFFSETTO:-0400
TZNAME:EDT
DTSTART:20240310T070000
END:DAYLIGHT
BEGIN:STANDARD
TZOFFSETFROM:-0400
TZOFFSETTO:-0500
TZNAME:EST
DTSTART:20241103T060000
END:STANDARD
END:VTIMEZONE
BEGIN:VEVENT
DTSTART;TZID=America/New_York:20230216T163000
DTEND;TZID=America/New_York:20230216T180000
DTSTAMP:20260425T161302
CREATED:20221104T112114Z
LAST-MODIFIED:20230201T031251Z
UID:15791-1676565000-1676570400@bell.works
SUMMARY:Social Hour at coLab
DESCRIPTION:Mingle with our community for our monthly happy hour! Enjoy sips + bites in the coLab kitchen! \nPart of the Fit Lab + CoLab Open House week!\nStop by coLab or FitLab during the week of 2/13 and receive 1 complimentary month of Open Co-working and book a Gather Meeting Room! Plus\, sign up for Fit Lab and receive your first month at no cost! \nEventbrite Link Coming Soon!
URL:https://bell.works/events/social-hour-at-colab/
LOCATION:Bell Works Chicagoland\, 2000 Center Dr\, Hoffman Estates\, IL\, 60192\, United States
CATEGORIES:Chicagoland
ATTACH;FMTTYPE=image/jpeg:https://bell.works/wp-content/uploads/2020/08/Bell_Works_Co_Space_82.jpg
END:VEVENT
END:VCALENDAR