BEGIN:VCALENDAR
VERSION:2.0
PRODID:-//Work, Shop, Play | Inspired Real Estate - ECPv6.15.20//NONSGML v1.0//EN
CALSCALE:GREGORIAN
METHOD:PUBLISH
X-ORIGINAL-URL:https://bell.works
X-WR-CALDESC:Events for Work, Shop, Play | Inspired Real Estate
REFRESH-INTERVAL;VALUE=DURATION:PT1H
X-Robots-Tag:noindex
X-PUBLISHED-TTL:PT1H
BEGIN:VTIMEZONE
TZID:America/New_York
BEGIN:DAYLIGHT
TZOFFSETFROM:-0500
TZOFFSETTO:-0400
TZNAME:EDT
DTSTART:20220313T070000
END:DAYLIGHT
BEGIN:STANDARD
TZOFFSETFROM:-0400
TZOFFSETTO:-0500
TZNAME:EST
DTSTART:20221106T060000
END:STANDARD
BEGIN:DAYLIGHT
TZOFFSETFROM:-0500
TZOFFSETTO:-0400
TZNAME:EDT
DTSTART:20230312T070000
END:DAYLIGHT
BEGIN:STANDARD
TZOFFSETFROM:-0400
TZOFFSETTO:-0500
TZNAME:EST
DTSTART:20231105T060000
END:STANDARD
BEGIN:DAYLIGHT
TZOFFSETFROM:-0500
TZOFFSETTO:-0400
TZNAME:EDT
DTSTART:20240310T070000
END:DAYLIGHT
BEGIN:STANDARD
TZOFFSETFROM:-0400
TZOFFSETTO:-0500
TZNAME:EST
DTSTART:20241103T060000
END:STANDARD
END:VTIMEZONE
BEGIN:VEVENT
DTSTART;TZID=America/New_York:20230321T080000
DTEND;TZID=America/New_York:20230321T120000
DTSTAMP:20260425T143032
CREATED:20230306T021154Z
LAST-MODIFIED:20230306T021209Z
UID:16087-1679385600-1679400000@bell.works
SUMMARY:Bisnow: Future of Chicago Suburbs Event
DESCRIPTION:Join us on March 21 for the Bisnow Future of the Chicago Suburbs event taking place at Bell Works Chicagoland! \nLearn from industry leaders as they dive into suburban commercial real estate asset classes\, investment\, and notable developments! Get the chance to listen to Developer of Bell Works and President of Inspired by Somerset Development\, Ralph Zucker\, as well as Bell Works tenant\, David Chameli\, EVP\, General Counsel\, Real Estate Operations\, Heritage-Crystal Clean LLC! \nUse code FOTS20EEka for 20% off your ticket! \nLearn more and register here
URL:https://bell.works/events/bisnow-future-of-chicago-suburbs-event/
LOCATION:Bell Works Chicagoland\, 2000 Center Dr\, Hoffman Estates\, IL\, 60192\, United States
CATEGORIES:Chicagoland
ATTACH;FMTTYPE=image/jpeg:https://bell.works/wp-content/uploads/2020/08/NPZ-Bellworks-08199-1-1.jpg
END:VEVENT
END:VCALENDAR