BEGIN:VCALENDAR
VERSION:2.0
PRODID:-//Work, Shop, Play | Inspired Real Estate - ECPv6.15.20//NONSGML v1.0//EN
CALSCALE:GREGORIAN
METHOD:PUBLISH
X-WR-CALNAME:Work, Shop, Play | Inspired Real Estate
X-ORIGINAL-URL:https://bell.works
X-WR-CALDESC:Events for Work, Shop, Play | Inspired Real Estate
REFRESH-INTERVAL;VALUE=DURATION:PT1H
X-Robots-Tag:noindex
X-PUBLISHED-TTL:PT1H
BEGIN:VTIMEZONE
TZID:America/New_York
BEGIN:DAYLIGHT
TZOFFSETFROM:-0500
TZOFFSETTO:-0400
TZNAME:EDT
DTSTART:20220313T070000
END:DAYLIGHT
BEGIN:STANDARD
TZOFFSETFROM:-0400
TZOFFSETTO:-0500
TZNAME:EST
DTSTART:20221106T060000
END:STANDARD
BEGIN:DAYLIGHT
TZOFFSETFROM:-0500
TZOFFSETTO:-0400
TZNAME:EDT
DTSTART:20230312T070000
END:DAYLIGHT
BEGIN:STANDARD
TZOFFSETFROM:-0400
TZOFFSETTO:-0500
TZNAME:EST
DTSTART:20231105T060000
END:STANDARD
BEGIN:DAYLIGHT
TZOFFSETFROM:-0500
TZOFFSETTO:-0400
TZNAME:EDT
DTSTART:20240310T070000
END:DAYLIGHT
BEGIN:STANDARD
TZOFFSETFROM:-0400
TZOFFSETTO:-0500
TZNAME:EST
DTSTART:20241103T060000
END:STANDARD
END:VTIMEZONE
BEGIN:VEVENT
DTSTART;TZID=America/New_York:20230913T120000
DTEND;TZID=America/New_York:20230913T130000
DTSTAMP:20260424T071640
CREATED:20230831T215430Z
LAST-MODIFIED:20230831T215947Z
UID:16599-1694606400-1694610000@bell.works
SUMMARY:Stay Grounded with FitLab
DESCRIPTION:Head to the pop-up space on The Block for a 30-minute meditation + singing bowls class at 12:15pm followed by small bites! \nLink to register \n 
URL:https://bell.works/events/stay-grounded-with-fitlab/
LOCATION:Bar Bella
CATEGORIES:Chicagoland
ATTACH;FMTTYPE=image/jpeg:https://bell.works/wp-content/uploads/2023/08/magic-bowls-XYjMm3m1n5w-unsplash-scaled.jpg
END:VEVENT
BEGIN:VEVENT
DTSTART;TZID=America/New_York:20230913T160000
DTEND;TZID=America/New_York:20230913T190000
DTSTAMP:20260424T071640
CREATED:20230831T215952Z
LAST-MODIFIED:20230831T220125Z
UID:16601-1694620800-1694631600@bell.works
SUMMARY:Live Music @ World’s Fair
DESCRIPTION:Enjoy an all-vinyl set from DJ Dan Maloney from 4-7pm at World’s Fair by Fairgrounds! \n 
URL:https://bell.works/events/live-music-worlds-fair-2/
LOCATION:Bar Bella
CATEGORIES:Chicagoland
ATTACH;FMTTYPE=image/png:https://bell.works/wp-content/uploads/2023/08/photo-1582730147924-d92f4da00252-1.png
END:VEVENT
END:VCALENDAR