BEGIN:VCALENDAR
VERSION:2.0
PRODID:-//Work, Shop, Play | Inspired Real Estate - ECPv6.15.20//NONSGML v1.0//EN
CALSCALE:GREGORIAN
METHOD:PUBLISH
X-ORIGINAL-URL:https://bell.works
X-WR-CALDESC:Events for Work, Shop, Play | Inspired Real Estate
REFRESH-INTERVAL;VALUE=DURATION:PT1H
X-Robots-Tag:noindex
X-PUBLISHED-TTL:PT1H
BEGIN:VTIMEZONE
TZID:America/New_York
BEGIN:DAYLIGHT
TZOFFSETFROM:-0500
TZOFFSETTO:-0400
TZNAME:EDT
DTSTART:20230312T070000
END:DAYLIGHT
BEGIN:STANDARD
TZOFFSETFROM:-0400
TZOFFSETTO:-0500
TZNAME:EST
DTSTART:20231105T060000
END:STANDARD
BEGIN:DAYLIGHT
TZOFFSETFROM:-0500
TZOFFSETTO:-0400
TZNAME:EDT
DTSTART:20240310T070000
END:DAYLIGHT
BEGIN:STANDARD
TZOFFSETFROM:-0400
TZOFFSETTO:-0500
TZNAME:EST
DTSTART:20241103T060000
END:STANDARD
BEGIN:DAYLIGHT
TZOFFSETFROM:-0500
TZOFFSETTO:-0400
TZNAME:EDT
DTSTART:20250309T070000
END:DAYLIGHT
BEGIN:STANDARD
TZOFFSETFROM:-0400
TZOFFSETTO:-0500
TZNAME:EST
DTSTART:20251102T060000
END:STANDARD
END:VTIMEZONE
BEGIN:VEVENT
DTSTART;TZID=America/New_York:20240314T100000
DTEND;TZID=America/New_York:20240314T140000
DTSTAMP:20260424T002237
CREATED:20240227T214708Z
LAST-MODIFIED:20240227T215116Z
UID:17382-1710410400-1710424800@bell.works
SUMMARY:Maker's Market
DESCRIPTION:Shop local creators and bakers at our monthly Bloomingdale Maker’s Market in the Square from 10am-2pm!
URL:https://bell.works/events/makers-market-2/
LOCATION:Bar Bella
CATEGORIES:Chicagoland
ATTACH;FMTTYPE=image/png:https://bell.works/wp-content/uploads/2024/02/Screenshot-2024-02-28-024715.png
END:VEVENT
BEGIN:VEVENT
DTSTART;TZID=America/New_York:20240314T163000
DTEND;TZID=America/New_York:20240314T173000
DTSTAMP:20260424T002237
CREATED:20240227T215148Z
LAST-MODIFIED:20240307T091823Z
UID:17384-1710433800-1710437400@bell.works
SUMMARY:Shake your Shamrocks Happy Hour Zumba
DESCRIPTION:Join us in The Square on Thursday March 14 at 4:30pm with Andrew for a “Shake Your Shamrocks” Zumba class followed by Happy Hour at World’s Fair! Get energized from a 45-minute St. Patricks Day Zumba class with Andrew followed by happy hour in World’s Fair! Half price food and drinks to enjoy! Wear your favorite green gear! Open to all! Sign up here!
URL:https://bell.works/events/shake-your-shamrocks-happy-hour-zumba/
LOCATION:Bar Bella
CATEGORIES:Chicagoland
ATTACH;FMTTYPE=image/jpeg:https://bell.works/wp-content/uploads/2024/02/oZHEw0Pg-scaled.jpeg
END:VEVENT
BEGIN:VEVENT
DTSTART;TZID=America/New_York:20240314T180000
DTEND;TZID=America/New_York:20240314T200000
DTSTAMP:20260424T002237
CREATED:20240227T213653Z
LAST-MODIFIED:20240227T213708Z
UID:17373-1710439200-1710446400@bell.works
SUMMARY:Trivia Thursdays at World's Fair
DESCRIPTION:Head to World’s Fair every Thursday 6-8pm with Anti-Normal Trivia! Sign up at 4:30pm!
URL:https://bell.works/events/trivia-thursdays-at-worlds-fair-13/
LOCATION:Bar Bella
CATEGORIES:Chicagoland
ATTACH;FMTTYPE=image/jpeg:https://bell.works/wp-content/uploads/2024/02/8Ue36uBd.jpeg
END:VEVENT
END:VCALENDAR