BEGIN:VCALENDAR
VERSION:2.0
PRODID:-//Work, Shop, Play | Inspired Real Estate - ECPv6.15.20//NONSGML v1.0//EN
CALSCALE:GREGORIAN
METHOD:PUBLISH
X-ORIGINAL-URL:https://bell.works
X-WR-CALDESC:Events for Work, Shop, Play | Inspired Real Estate
REFRESH-INTERVAL;VALUE=DURATION:PT1H
X-Robots-Tag:noindex
X-PUBLISHED-TTL:PT1H
BEGIN:VTIMEZONE
TZID:America/New_York
BEGIN:DAYLIGHT
TZOFFSETFROM:-0500
TZOFFSETTO:-0400
TZNAME:EDT
DTSTART:20230312T070000
END:DAYLIGHT
BEGIN:STANDARD
TZOFFSETFROM:-0400
TZOFFSETTO:-0500
TZNAME:EST
DTSTART:20231105T060000
END:STANDARD
BEGIN:DAYLIGHT
TZOFFSETFROM:-0500
TZOFFSETTO:-0400
TZNAME:EDT
DTSTART:20240310T070000
END:DAYLIGHT
BEGIN:STANDARD
TZOFFSETFROM:-0400
TZOFFSETTO:-0500
TZNAME:EST
DTSTART:20241103T060000
END:STANDARD
BEGIN:DAYLIGHT
TZOFFSETFROM:-0500
TZOFFSETTO:-0400
TZNAME:EDT
DTSTART:20250309T070000
END:DAYLIGHT
BEGIN:STANDARD
TZOFFSETFROM:-0400
TZOFFSETTO:-0500
TZNAME:EST
DTSTART:20251102T060000
END:STANDARD
END:VTIMEZONE
BEGIN:VEVENT
DTSTART;TZID=America/New_York:20240320T130000
DTEND;TZID=America/New_York:20240320T140000
DTSTAMP:20260424T014755
CREATED:20240227T215405Z
LAST-MODIFIED:20240227T215708Z
UID:17386-1710939600-1710943200@bell.works
SUMMARY:Spring Awakening with FitLab
DESCRIPTION:Meet us in the World’s Fair event space on Wednesday March 20 at 1pm for the Spring Awakening Meditation + Sound Journey with FitLab! \nSound Healing helps to shift our state of being back to our natural state of harmony by bringing a vibrational massage all the way down to the cellular level to unwind the mind and bring deep relaxation to the body. Comfortably seated or reclining\, you will have plentiful time to rest\, meditate\, contemplate and marvel while Sarah creates an evolving soundscape of crystal bowls and chimes. Please dress comfortably in clothing that allows easy movement. \nOpen to all! Please email sarah.enzenbacher@kinemafitness.com to register.
URL:https://bell.works/events/spring-awakening-with-fitlab/
LOCATION:Bar Bella
CATEGORIES:Chicagoland
ATTACH;FMTTYPE=image/jpeg:https://bell.works/wp-content/uploads/2023/08/magic-bowls-XYjMm3m1n5w-unsplash-scaled.jpg
END:VEVENT
BEGIN:VEVENT
DTSTART;TZID=America/New_York:20240320T153000
DTEND;TZID=America/New_York:20240320T183000
DTSTAMP:20260424T014755
CREATED:20240227T220005Z
LAST-MODIFIED:20240227T220204Z
UID:17388-1710948600-1710959400@bell.works
SUMMARY:ThinkToThink Masterclass
DESCRIPTION:Listen to Enclave Academy’s Masterclass in Gather at 3:30pm where you can learn from an inspiring speaker every month! \nThen head to World’s Fair for Happy Hour! From 4-6pm\, all bar sips + bites are half priced!
URL:https://bell.works/events/thinktothink-masterclass-7/
LOCATION:Bar Bella
CATEGORIES:Chicagoland
ATTACH;FMTTYPE=image/jpeg:https://bell.works/wp-content/uploads/2024/02/F_PPUnZg-scaled.jpeg
END:VEVENT
BEGIN:VEVENT
DTSTART;TZID=America/New_York:20240320T160000
DTEND;TZID=America/New_York:20240320T190000
DTSTAMP:20260424T014755
CREATED:20240227T220237Z
LAST-MODIFIED:20240227T220328Z
UID:17390-1710950400-1710961200@bell.works
SUMMARY:Sundown Sessions: Justine Ewald
DESCRIPTION:Enjoy a Sundown Session with Justine Ewald from 4-7pm at World’s Fair while sipping + shopping at the Spring Fling event! \nEnjoy half-off bar bites + sips from 4-6pm!
URL:https://bell.works/events/sundown-sessions-justine-ewald-2/
LOCATION:Bar Bella
CATEGORIES:Chicagoland
ATTACH;FMTTYPE=image/jpeg:https://bell.works/wp-content/uploads/2023/11/bogomil-mihaylov-ekHSHvgr27k-unsplash-scaled.jpg
END:VEVENT
BEGIN:VEVENT
DTSTART;TZID=America/New_York:20240320T160000
DTEND;TZID=America/New_York:20240320T190000
DTSTAMP:20260424T014755
CREATED:20240227T220456Z
LAST-MODIFIED:20240311T092229Z
UID:17391-1710950400-1710961200@bell.works
SUMMARY:Spring Fling: Sip + Shop
DESCRIPTION:Get ready for Spring at Bell Works Chicagoland! Enjoy live music by Justine Ewald as you sip cocktails\, build your own bouquet\, and browse local vendors! \nLink to register!
URL:https://bell.works/events/spring-fling-sip-shop/
LOCATION:Bar Bella
CATEGORIES:Chicagoland
ATTACH;FMTTYPE=image/png:https://bell.works/wp-content/uploads/2024/02/Screenshot-2024-02-28-030500.png
END:VEVENT
END:VCALENDAR