BEGIN:VCALENDAR
VERSION:2.0
PRODID:-//Work, Shop, Play | Inspired Real Estate - ECPv6.15.20//NONSGML v1.0//EN
CALSCALE:GREGORIAN
METHOD:PUBLISH
X-WR-CALNAME:Work, Shop, Play | Inspired Real Estate
X-ORIGINAL-URL:https://bell.works
X-WR-CALDESC:Events for Work, Shop, Play | Inspired Real Estate
REFRESH-INTERVAL;VALUE=DURATION:PT1H
X-Robots-Tag:noindex
X-PUBLISHED-TTL:PT1H
BEGIN:VTIMEZONE
TZID:America/New_York
BEGIN:DAYLIGHT
TZOFFSETFROM:-0500
TZOFFSETTO:-0400
TZNAME:EDT
DTSTART:20230312T070000
END:DAYLIGHT
BEGIN:STANDARD
TZOFFSETFROM:-0400
TZOFFSETTO:-0500
TZNAME:EST
DTSTART:20231105T060000
END:STANDARD
BEGIN:DAYLIGHT
TZOFFSETFROM:-0500
TZOFFSETTO:-0400
TZNAME:EDT
DTSTART:20240310T070000
END:DAYLIGHT
BEGIN:STANDARD
TZOFFSETFROM:-0400
TZOFFSETTO:-0500
TZNAME:EST
DTSTART:20241103T060000
END:STANDARD
BEGIN:DAYLIGHT
TZOFFSETFROM:-0500
TZOFFSETTO:-0400
TZNAME:EDT
DTSTART:20250309T070000
END:DAYLIGHT
BEGIN:STANDARD
TZOFFSETFROM:-0400
TZOFFSETTO:-0500
TZNAME:EST
DTSTART:20251102T060000
END:STANDARD
END:VTIMEZONE
BEGIN:VEVENT
DTSTART;TZID=America/New_York:20240327T160000
DTEND;TZID=America/New_York:20240327T180000
DTSTAMP:20260424T001252
CREATED:20240227T220831Z
LAST-MODIFIED:20240227T220953Z
UID:17395-1711555200-1711562400@bell.works
SUMMARY:Social Hour hosted by coLab
DESCRIPTION:Meet coLab members\, Bell Works tenants + the local community for complimentary sips\, bites + live music at World’s Fair from 4-6pm!
URL:https://bell.works/events/social-hour-hosted-by-colab-2/
LOCATION:Bar Bella
CATEGORIES:Chicagoland
ATTACH;FMTTYPE=image/jpeg:https://bell.works/wp-content/uploads/2024/02/ZisYQbN2-scaled.jpeg
END:VEVENT
BEGIN:VEVENT
DTSTART;TZID=America/New_York:20240327T160000
DTEND;TZID=America/New_York:20240327T190000
DTSTAMP:20260424T001252
CREATED:20240227T221025Z
LAST-MODIFIED:20240227T221123Z
UID:17397-1711555200-1711566000@bell.works
SUMMARY:Sundown Sessions: Timothy Noel
DESCRIPTION:Tune into a solo set with Timothy Noel from 4-7pm at World’s Fair on Wednesday March 27! \nEnjoy half-off bar bites + sips from 4-6pm for Happy Hour at World’s Fair!
URL:https://bell.works/events/sundown-sessions-timothy-noel/
LOCATION:Bar Bella
CATEGORIES:Chicagoland
ATTACH;FMTTYPE=image/jpeg:https://bell.works/wp-content/uploads/2024/01/Taylor-Swift-Night-at-Worlds-Fair-scaled.jpg
END:VEVENT
END:VCALENDAR