BEGIN:VCALENDAR
VERSION:2.0
PRODID:-//Work, Shop, Play | Inspired Real Estate - ECPv6.15.20//NONSGML v1.0//EN
CALSCALE:GREGORIAN
METHOD:PUBLISH
X-ORIGINAL-URL:https://bell.works
X-WR-CALDESC:Events for Work, Shop, Play | Inspired Real Estate
REFRESH-INTERVAL;VALUE=DURATION:PT1H
X-Robots-Tag:noindex
X-PUBLISHED-TTL:PT1H
BEGIN:VTIMEZONE
TZID:America/New_York
BEGIN:DAYLIGHT
TZOFFSETFROM:-0500
TZOFFSETTO:-0400
TZNAME:EDT
DTSTART:20250309T070000
END:DAYLIGHT
BEGIN:STANDARD
TZOFFSETFROM:-0400
TZOFFSETTO:-0500
TZNAME:EST
DTSTART:20251102T060000
END:STANDARD
BEGIN:DAYLIGHT
TZOFFSETFROM:-0500
TZOFFSETTO:-0400
TZNAME:EDT
DTSTART:20260308T070000
END:DAYLIGHT
BEGIN:STANDARD
TZOFFSETFROM:-0400
TZOFFSETTO:-0500
TZNAME:EST
DTSTART:20261101T060000
END:STANDARD
BEGIN:DAYLIGHT
TZOFFSETFROM:-0500
TZOFFSETTO:-0400
TZNAME:EDT
DTSTART:20270314T070000
END:DAYLIGHT
BEGIN:STANDARD
TZOFFSETFROM:-0400
TZOFFSETTO:-0500
TZNAME:EST
DTSTART:20271107T060000
END:STANDARD
END:VTIMEZONE
BEGIN:VEVENT
DTSTART;TZID=America/New_York:20260411T080000
DTEND;TZID=America/New_York:20260411T090000
DTSTAMP:20260422T220643
CREATED:20260330T202927Z
LAST-MODIFIED:20260330T203051Z
UID:22703-1775894400-1775898000@bell.works
SUMMARY:Erg-A-Thon Fundraiser with It Gym
DESCRIPTION:Join us and It Gym on Saturday April 11 at 8am for their Erg-A-Thon Fundraiser — a high energy morning of rowing\, biking\, and skiing for a great cause. \nThe event is held in support of Karli\, who is running the Bank of America Chicago Marathon this Fall\, and raising money for Second City Canine Rescue. \nThe Erg-A-Thon will help support Karli’s goal to save the dogs\, where teams will take a combined 42\,000 meters across the rower\, bike\, and ski erg. \nThis event is open to everyone who would like to compete! \nTickets and more information here.
URL:https://bell.works/events/erg-a-thon-fundraiser-with-it-gym/
CATEGORIES:Chicagoland
ATTACH;FMTTYPE=image/jpeg:https://bell.works/wp-content/uploads/2026/03/greg-rosenke-8DcwvlVXIVw-unsplash-scaled.jpg
END:VEVENT
END:VCALENDAR