BEGIN:VCALENDAR
VERSION:2.0
PRODID:-//Work, Shop, Play | Inspired Real Estate - ECPv6.15.20//NONSGML v1.0//EN
CALSCALE:GREGORIAN
METHOD:PUBLISH
X-WR-CALNAME:Work, Shop, Play | Inspired Real Estate
X-ORIGINAL-URL:https://bell.works
X-WR-CALDESC:Events for Work, Shop, Play | Inspired Real Estate
REFRESH-INTERVAL;VALUE=DURATION:PT1H
X-Robots-Tag:noindex
X-PUBLISHED-TTL:PT1H
BEGIN:VTIMEZONE
TZID:America/New_York
BEGIN:DAYLIGHT
TZOFFSETFROM:-0500
TZOFFSETTO:-0400
TZNAME:EDT
DTSTART:20220313T070000
END:DAYLIGHT
BEGIN:STANDARD
TZOFFSETFROM:-0400
TZOFFSETTO:-0500
TZNAME:EST
DTSTART:20221106T060000
END:STANDARD
BEGIN:DAYLIGHT
TZOFFSETFROM:-0500
TZOFFSETTO:-0400
TZNAME:EDT
DTSTART:20230312T070000
END:DAYLIGHT
BEGIN:STANDARD
TZOFFSETFROM:-0400
TZOFFSETTO:-0500
TZNAME:EST
DTSTART:20231105T060000
END:STANDARD
BEGIN:DAYLIGHT
TZOFFSETFROM:-0500
TZOFFSETTO:-0400
TZNAME:EDT
DTSTART:20240310T070000
END:DAYLIGHT
BEGIN:STANDARD
TZOFFSETFROM:-0400
TZOFFSETTO:-0500
TZNAME:EST
DTSTART:20241103T060000
END:STANDARD
BEGIN:DAYLIGHT
TZOFFSETFROM:-0500
TZOFFSETTO:-0400
TZNAME:EDT
DTSTART:20250309T070000
END:DAYLIGHT
BEGIN:STANDARD
TZOFFSETFROM:-0400
TZOFFSETTO:-0500
TZNAME:EST
DTSTART:20251102T060000
END:STANDARD
END:VTIMEZONE
BEGIN:VEVENT
DTSTART;TZID=America/New_York:20231108T160000
DTEND;TZID=America/New_York:20231108T190000
DTSTAMP:20260421T112346
CREATED:20231031T170552Z
LAST-MODIFIED:20231113T202425Z
UID:16896-1699459200-1699470000@bell.works
SUMMARY:Live Music @ World's Fair
DESCRIPTION:Enjoy the sounds of Justine Ewald playing at World’s Fair by Fairgrounds from 4-7pm!
URL:https://bell.works/events/live-music-worlds-fair-5/
LOCATION:Bar Bella
CATEGORIES:Chicagoland
ATTACH;FMTTYPE=image/jpeg:https://bell.works/wp-content/uploads/2023/10/362605301_17980227815354728_7398810157194177542_n-e1698772340907.jpg
END:VEVENT
BEGIN:VEVENT
DTSTART;TZID=America/New_York:20231115T120000
DTEND;TZID=America/New_York:20231115T130000
DTSTAMP:20260421T112346
CREATED:20231031T171228Z
LAST-MODIFIED:20231031T171450Z
UID:16900-1700049600-1700053200@bell.works
SUMMARY:Gratitude Meditation and Singing Bowls
DESCRIPTION:Relax and reset with meditation\, singing bowls\, and an assisted stretch at World’s Fair at 12:15pm. Please email jackie.steffen@kinemafitness.com to register.
URL:https://bell.works/events/gratitude-meditation-and-singing-bowls/
LOCATION:Bar Bella
CATEGORIES:Chicagoland
ATTACH;FMTTYPE=image/jpeg:https://bell.works/wp-content/uploads/2023/08/magic-bowls-XYjMm3m1n5w-unsplash-scaled.jpg
END:VEVENT
BEGIN:VEVENT
DTSTART;TZID=America/New_York:20231115T153000
DTEND;TZID=America/New_York:20231115T183000
DTSTAMP:20260421T112346
CREATED:20231031T172023Z
LAST-MODIFIED:20231113T202242Z
UID:16903-1700062200-1700073000@bell.works
SUMMARY:ThinkToThink Masterclass
DESCRIPTION:Listen to Enclave Academy’s Masterclass in Gather at 3:30pm where you can learn from an inspiring speaker every month!
URL:https://bell.works/events/thinktothink-masterclass-3/
LOCATION:Bar Bella
CATEGORIES:Chicagoland
ATTACH;FMTTYPE=image/jpeg:https://bell.works/wp-content/uploads/2023/10/ThinkToThink-Masterclass.jpeg
END:VEVENT
BEGIN:VEVENT
DTSTART;TZID=America/New_York:20231128T120000
DTEND;TZID=America/New_York:20231128T140000
DTSTAMP:20260421T112346
CREATED:20231031T172528Z
LAST-MODIFIED:20231127T163918Z
UID:16907-1701172800-1701180000@bell.works
SUMMARY:Morning Motivator
DESCRIPTION:Join us on November 28th for coLab’s monthly Morning Motivator at 12pm featuring Michael DeMeyer! \nMichael DeMeyer is part of the leadership team for the Faith Feeds food pantry and is a community advocate with the Greater Chicago Food Depository. By listening to the needs of its community\, the pantry has succeeded in bridging the gap between services and families in need. As a result\, the organization has witnessed a nearly twenty-fold increase in its clientele over the last three years. This presentation will aim to inspire you to utilize your business skills to make an impact in your own neighborhood. \nLearn more + register here!
URL:https://bell.works/events/thanksgiving-centerpiece-workshop-2/
LOCATION:Bar Bella
CATEGORIES:Chicagoland
ATTACH;FMTTYPE=image/jpeg:https://bell.works/wp-content/uploads/2023/10/Thanksgiving-Centerpiece-Workshop.jpeg
END:VEVENT
BEGIN:VEVENT
DTSTART;TZID=America/New_York:20231129T080000
DTEND;TZID=America/New_York:20231129T233000
DTSTAMP:20260421T112346
CREATED:20231031T173101Z
LAST-MODIFIED:20231031T173233Z
UID:16912-1701244800-1701300600@bell.works
SUMMARY:Bisnow Repositioning Chicago Summit
DESCRIPTION:Join us in The Square to connect with industry leaders over coffee + breakfast\, then tune into the live panels to learn about current conversion trends\, design + historic preservation considerations\, investment opportunities\, + more! Learn more and register here.
URL:https://bell.works/events/bisnow-repositioning-chicago-summit/
LOCATION:Bar Bella
CATEGORIES:Chicagoland
ATTACH;FMTTYPE=image/jpeg:https://bell.works/wp-content/uploads/2023/10/Bisnow-Repositioning-Chicago-Summit-scaled.jpeg
END:VEVENT
BEGIN:VEVENT
DTSTART;TZID=America/New_York:20231129T160000
DTEND;TZID=America/New_York:20231129T180000
DTSTAMP:20260421T112346
CREATED:20231031T173311Z
LAST-MODIFIED:20231031T173511Z
UID:16914-1701273600-1701280800@bell.works
SUMMARY:Social Hour
DESCRIPTION:Connect with members of our community + beyond over sips\, bites\, and live music at our monthly Social Hour at World’s Fair 4-6pm!
URL:https://bell.works/events/social-hour-4/
LOCATION:Bar Bella
CATEGORIES:Chicagoland
ATTACH;FMTTYPE=image/jpeg:https://bell.works/wp-content/uploads/2023/10/Social-Hour.jpeg
END:VEVENT
BEGIN:VEVENT
DTSTART;TZID=America/New_York:20231129T160000
DTEND;TZID=America/New_York:20231129T190000
DTSTAMP:20260421T112346
CREATED:20231031T173548Z
LAST-MODIFIED:20231031T173939Z
UID:16916-1701273600-1701284400@bell.works
SUMMARY:Latin Night with Guillermo Paolisso Duo
DESCRIPTION:Vamos! Dance to the Latin sounds of Guillermo Paolisso from 4-7pm at World’s Fair!
URL:https://bell.works/events/latin-night-with-guillermo-paolisso-duo/
LOCATION:Bar Bella
CATEGORIES:Chicagoland
ATTACH;FMTTYPE=image/jpeg:https://bell.works/wp-content/uploads/2023/10/Latin-Night-with-Guillermo-Paolisso-Duo-e1698773972426.jpg
END:VEVENT
BEGIN:VEVENT
DTSTART;TZID=America/New_York:20231206T160000
DTEND;TZID=America/New_York:20231206T190000
DTSTAMP:20260421T112346
CREATED:20231204T092348Z
LAST-MODIFIED:20231204T092553Z
UID:17073-1701878400-1701889200@bell.works
SUMMARY:Live Music @ World's Fair
DESCRIPTION:Enjoy the sounds of AVOL playing at World’s Fair by Fairgrounds from 4-7pm!
URL:https://bell.works/events/live-music-worlds-fair-6/
LOCATION:Bar Bella
CATEGORIES:Chicagoland
ATTACH;FMTTYPE=image/png:https://bell.works/wp-content/uploads/2023/12/ive-Music-@-Worlds-Fair-.png
END:VEVENT
BEGIN:VEVENT
DTSTART;TZID=America/New_York:20231206T160000
DTEND;TZID=America/New_York:20231206T190000
DTSTAMP:20260421T112346
CREATED:20231204T092637Z
LAST-MODIFIED:20231206T092453Z
UID:17075-1701878400-1701889200@bell.works
SUMMARY:Permanant Jewelry Pop-up
DESCRIPTION:Bring a friend or loved one to World’s Fair to shop and explore Bash + Shay Jewlery! Enjoy sips and live music by AVOL!
URL:https://bell.works/events/permanant-jewelry-pop-up/
LOCATION:Bar Bella
CATEGORIES:Chicagoland
ATTACH;FMTTYPE=image/jpeg:https://bell.works/wp-content/uploads/2023/12/Permanent-Jewlery-12_6.jpeg
END:VEVENT
BEGIN:VEVENT
DTSTART;TZID=America/New_York:20231207T150000
DTEND;TZID=America/New_York:20231207T170000
DTSTAMP:20260421T112346
CREATED:20231204T092836Z
LAST-MODIFIED:20231206T092447Z
UID:17076-1701961200-1701968400@bell.works
SUMMARY:Social Hour @ coLab
DESCRIPTION:Enjoy a Hot Toddy Bar at coLab for the montly Social Hour from 3-5pm! Get the chance to connect with members over a seasonal favorite!
URL:https://bell.works/events/social-hour-colab/
LOCATION:Bar Bella
CATEGORIES:Chicagoland
ATTACH;FMTTYPE=image/webp:https://bell.works/wp-content/uploads/2023/12/Social-Hour-12_7.webp
END:VEVENT
BEGIN:VEVENT
DTSTART;TZID=America/New_York:20231207T180000
DTEND;TZID=America/New_York:20231207T200000
DTSTAMP:20260421T112346
CREATED:20231204T092127Z
LAST-MODIFIED:20231204T092252Z
UID:17070-1701972000-1701979200@bell.works
SUMMARY:Trivia Thursdays at World's Fair
DESCRIPTION:Head to World’s Fair every Thursday 6-8pm with Anti-Normal Trivia! Sign up at 4:30pm!
URL:https://bell.works/events/trivia-thursdays-at-worlds-fair-2/
LOCATION:Bar Bella
CATEGORIES:Chicagoland
ATTACH;FMTTYPE=image/jpeg:https://bell.works/wp-content/uploads/2023/12/cFZuy70k.jpeg
END:VEVENT
BEGIN:VEVENT
DTSTART;TZID=America/New_York:20231212T090000
DTEND;TZID=America/New_York:20231212T130000
DTSTAMP:20260421T112346
CREATED:20231204T094817Z
LAST-MODIFIED:20231205T140829Z
UID:17077-1702371600-1702386000@bell.works
SUMMARY:Season of Giving Blood Drive
DESCRIPTION:Join Crystal Clean team in FitLab from 9am to 1pm to donate blood and support your local community!
URL:https://bell.works/events/season-of-giving-blood-drive/
LOCATION:Bar Bella
CATEGORIES:Chicagoland
ATTACH;FMTTYPE=image/jpeg:https://bell.works/wp-content/uploads/2023/12/BloodDrive-scaled.jpg
END:VEVENT
BEGIN:VEVENT
DTSTART;TZID=America/New_York:20231212T120000
DTEND;TZID=America/New_York:20231212T130000
DTSTAMP:20260421T112346
CREATED:20231204T095007Z
LAST-MODIFIED:20231211T134647Z
UID:17078-1702382400-1702386000@bell.works
SUMMARY:How it Works
DESCRIPTION:How it Works: Sound Healing \nLunch + learn with us on Tuesday 12/12 at 12pm. Replenish your energy with a complimentary lunch by taking time to experience the restorative tones of crystal and alchemy singing bowls and chimes played live just for you. Sound healing educator\, Sarah Enzenbacher\, will also be sharing about the healing nature of certain sounds. She will be giving healthy strategies for you to stay in harmony with your winter environment physically\, emotionally and spiritually. \nLINK to register!
URL:https://bell.works/events/how-it-works/
LOCATION:Bar Bella
CATEGORIES:Chicagoland
ATTACH;FMTTYPE=image/jpeg:https://bell.works/wp-content/uploads/2023/12/i3fJbb_c-scaled.jpeg
END:VEVENT
BEGIN:VEVENT
DTSTART;TZID=America/New_York:20231213T100000
DTEND;TZID=America/New_York:20231213T120000
DTSTAMP:20260421T112346
CREATED:20231204T095324Z
LAST-MODIFIED:20231204T095429Z
UID:17080-1702461600-1702468800@bell.works
SUMMARY:Holiday Maker's Market
DESCRIPTION:Shop local vendors + small businesses at our Holiday Market in The Square from 10am to 2pm on 12/13!
URL:https://bell.works/events/holiday-makers-market/
LOCATION:Bar Bella
CATEGORIES:Chicagoland
ATTACH;FMTTYPE=image/png:https://bell.works/wp-content/uploads/2023/11/Bell-Works-Fresh-Saturday-Holiday-Market.png
END:VEVENT
BEGIN:VEVENT
DTSTART;TZID=America/New_York:20231213T110000
DTEND;TZID=America/New_York:20231213T150000
DTSTAMP:20260421T112346
CREATED:20231204T095517Z
LAST-MODIFIED:20231204T095805Z
UID:17081-1702465200-1702479600@bell.works
SUMMARY:Hot Cocoa Bar @ Fitlab
DESCRIPTION:Warm up with some hot cocoa on December 13th from 11am to 3pm and enjoy a complimentary day pass to FitLab! The first 15 people will recive a Bell Works mug! Bring family\, friends and co-workers and ENJOY! \nTake a picture in Fit Lab with your mug and tag @fitlab_bw and @bellworkschi on Instagram to get entered into a raffle! \nOpen to members and non-members! Please email sarah.enzenbacher@kinemafitness.com with any questions!
URL:https://bell.works/events/hot-cocoa-bar-fitlab/
LOCATION:Bar Bella
CATEGORIES:Chicagoland
ATTACH;FMTTYPE=image/png:https://bell.works/wp-content/uploads/2023/12/Hot-Cocoa-Bar-@-Fitlab--e1701683880935.png
END:VEVENT
BEGIN:VEVENT
DTSTART;TZID=America/New_York:20231220T120000
DTEND;TZID=America/New_York:20231220T130000
DTSTAMP:20260421T112346
CREATED:20231204T100009Z
LAST-MODIFIED:20231204T100219Z
UID:17084-1703073600-1703077200@bell.works
SUMMARY:Winter Solstice Singing Bowls
DESCRIPTION:Take a moment for yourself before the holidays by experiencing singing bowls and chimes and all thier benefits on 12/20 at 12:15pm in World’s Fair! \nOpen to all building tenants\, public + community! No experience necessary! \nLINK to register!
URL:https://bell.works/events/winter-solstice-singing-bowls/
LOCATION:Bar Bella
CATEGORIES:Chicagoland
ATTACH;FMTTYPE=image/jpeg:https://bell.works/wp-content/uploads/2023/08/magic-bowls-XYjMm3m1n5w-unsplash-scaled.jpg
END:VEVENT
BEGIN:VEVENT
DTSTART;TZID=America/New_York:20231220T153000
DTEND;TZID=America/New_York:20231220T183000
DTSTAMP:20260421T112346
CREATED:20231204T100250Z
LAST-MODIFIED:20231204T100423Z
UID:17085-1703086200-1703097000@bell.works
SUMMARY:ThinkToThink Masterclass
DESCRIPTION:Listen to Enclave Academy’s Masterclass in Gather at 3:30pm where you can learn from an inspiring speaker every month!
URL:https://bell.works/events/thinktothink-masterclass-4/
LOCATION:Bar Bella
CATEGORIES:Chicagoland
ATTACH;FMTTYPE=image/jpeg:https://bell.works/wp-content/uploads/2023/12/pxze9w_Q.jpeg
END:VEVENT
BEGIN:VEVENT
DTSTART;TZID=America/New_York:20240104T180000
DTEND;TZID=America/New_York:20240104T200000
DTSTAMP:20260421T112346
CREATED:20240102T100543Z
LAST-MODIFIED:20240105T124008Z
UID:17157-1704391200-1704398400@bell.works
SUMMARY:Trivia Thursdays at World's Fair
DESCRIPTION:Head to World’s Fair every Thursday 6-8pm with Anti-Normal Trivia! Sign up at 4:30pm!
URL:https://bell.works/events/trivia-thursdays-at-worlds-fair-3/
LOCATION:Bar Bella
CATEGORIES:Chicagoland
ATTACH;FMTTYPE=image/jpeg:https://bell.works/wp-content/uploads/2024/01/Trivia-Thursdays-at-Worlds-Fair.jpeg
END:VEVENT
BEGIN:VEVENT
DTSTART;TZID=America/New_York:20240110T160000
DTEND;TZID=America/New_York:20240110T190000
DTSTAMP:20260421T112346
CREATED:20240102T101116Z
LAST-MODIFIED:20240102T101503Z
UID:17163-1704902400-1704913200@bell.works
SUMMARY:Taylor Swift Night at World's Fair
DESCRIPTION:Sing along with Justine Ewald for a Taylor Swift-themed night at World’s Fair from 4-7pm! \nFrom 4-5pm\, all bar sips + bites are half priced for World’s Fair Happy Hour!
URL:https://bell.works/events/taylor-swift-night-at-worlds-fair/
LOCATION:Bar Bella
CATEGORIES:Chicagoland
ATTACH;FMTTYPE=image/jpeg:https://bell.works/wp-content/uploads/2024/01/Taylor-Swift-Night-at-Worlds-Fair-scaled.jpg
END:VEVENT
BEGIN:VEVENT
DTSTART;TZID=America/New_York:20240111T180000
DTEND;TZID=America/New_York:20240111T200000
DTSTAMP:20260421T112346
CREATED:20240102T100715Z
LAST-MODIFIED:20240105T124014Z
UID:17159-1704996000-1705003200@bell.works
SUMMARY:Trivia Thursdays at World's Fair
DESCRIPTION:Head to World’s Fair every Thursday 6-8pm with Anti-Normal Trivia! Sign up at 4:30pm!
URL:https://bell.works/events/trivia-thursdays-at-worlds-fair-4/
LOCATION:Bar Bella
CATEGORIES:Chicagoland
ATTACH;FMTTYPE=image/jpeg:https://bell.works/wp-content/uploads/2024/01/Trivia-Thursdays-at-Worlds-Fair.jpeg
END:VEVENT
BEGIN:VEVENT
DTSTART;TZID=America/New_York:20240117T153000
DTEND;TZID=America/New_York:20240117T183000
DTSTAMP:20260421T112346
CREATED:20240102T101749Z
LAST-MODIFIED:20240102T101850Z
UID:17171-1705505400-1705516200@bell.works
SUMMARY:ThinkToThink Masterclass
DESCRIPTION:Listen to Enclave Academy’s Masterclass in Gather at 3:30pm where you can learn from an inspiring speaker every month! \nThen head to World’s Fair for Happy Hour! From 4-5pm\, all bar sips + bites are half priced!
URL:https://bell.works/events/thinktothink-masterclass-5/
LOCATION:Bar Bella
CATEGORIES:Chicagoland
ATTACH;FMTTYPE=image/jpeg:https://bell.works/wp-content/uploads/2024/01/ThinkToThink-Masterclass.jpeg
END:VEVENT
BEGIN:VEVENT
DTSTART;TZID=America/New_York:20240117T160000
DTEND;TZID=America/New_York:20240117T190000
DTSTAMP:20260421T112346
CREATED:20240102T101620Z
LAST-MODIFIED:20240102T101723Z
UID:17169-1705507200-1705518000@bell.works
SUMMARY:Game Night @ World's Fair
DESCRIPTION:Grab a teammate\, colleague\, or friend and head to World’s Fair to play your favorite boardgames while enjoying sips + bites 4-7pm! \nFrom 4-5pm\, all bar sips + bites are half priced for World’s Fair Happy Hour!
URL:https://bell.works/events/game-night-worlds-fair/
LOCATION:Bar Bella
CATEGORIES:Chicagoland
ATTACH;FMTTYPE=image/jpeg:https://bell.works/wp-content/uploads/2024/01/Game-Night-@-Worlds-Fair.jpg
END:VEVENT
BEGIN:VEVENT
DTSTART;TZID=America/New_York:20240118T180000
DTEND;TZID=America/New_York:20240118T200000
DTSTAMP:20260421T112346
CREATED:20240102T100832Z
LAST-MODIFIED:20240105T124025Z
UID:17160-1705600800-1705608000@bell.works
SUMMARY:Trivia Thursdays at World's Fair
DESCRIPTION:Head to World’s Fair every Thursday 6-8pm with Anti-Normal Trivia! Sign up at 4:30pm!
URL:https://bell.works/events/trivia-thursdays-at-worlds-fair-5/
LOCATION:Bar Bella
CATEGORIES:Chicagoland
ATTACH;FMTTYPE=image/jpeg:https://bell.works/wp-content/uploads/2024/01/Trivia-Thursdays-at-Worlds-Fair.jpeg
END:VEVENT
BEGIN:VEVENT
DTSTART;TZID=America/New_York:20240123T110000
DTEND;TZID=America/New_York:20240123T120000
DTSTAMP:20260421T112346
CREATED:20240102T101907Z
LAST-MODIFIED:20240102T102044Z
UID:17173-1706007600-1706011200@bell.works
SUMMARY:Savasana into the New Year
DESCRIPTION:Warm lavender towels\, fresh pressed juice\, and yoga? Yes please! Join us at 11:15am in FitLab for an unforgettable experience! \nRegister here!
URL:https://bell.works/events/savasana-into-the-new-year/
LOCATION:Bar Bella
CATEGORIES:Chicagoland
ATTACH;FMTTYPE=image/jpeg:https://bell.works/wp-content/uploads/2024/01/Savasana-into-the-New-Year-scaled.jpeg
END:VEVENT
BEGIN:VEVENT
DTSTART;TZID=America/New_York:20240124T160000
DTEND;TZID=America/New_York:20240124T180000
DTSTAMP:20260421T112346
CREATED:20240102T102333Z
LAST-MODIFIED:20240102T102448Z
UID:17177-1706112000-1706119200@bell.works
SUMMARY:Social Hour @ World's Fair
DESCRIPTION:Meet coLab members\, Bell Works tenants + the local community for sips\, bites\, + live music\, at World’s Fair from 4-6pm!
URL:https://bell.works/events/social-hour-worlds-fair/
LOCATION:Bar Bella
CATEGORIES:Chicagoland
ATTACH;FMTTYPE=image/jpeg:https://bell.works/wp-content/uploads/2024/01/Social-Hour-@-Worlds-Fair-scaled.jpeg
END:VEVENT
BEGIN:VEVENT
DTSTART;TZID=America/New_York:20240124T160000
DTEND;TZID=America/New_York:20240124T190000
DTSTAMP:20260421T112346
CREATED:20240102T102206Z
LAST-MODIFIED:20240102T102312Z
UID:17175-1706112000-1706122800@bell.works
SUMMARY:Live Music @ World's Fair
DESCRIPTION:Enjoy the acoustic sounds of Aaron Day and Morgan Pirtle from 4-7pm while enjoying sips + bites! \nFrom 4-5pm\, all bar sips + bites are half priced for World’s Fair Happy Hour!
URL:https://bell.works/events/live-music-worlds-fair-7/
LOCATION:Bar Bella
CATEGORIES:Chicagoland
ATTACH;FMTTYPE=image/jpeg:https://bell.works/wp-content/uploads/2024/01/Live-Music-@-Worlds-Fair-scaled.jpg
END:VEVENT
BEGIN:VEVENT
DTSTART;TZID=America/New_York:20240125T180000
DTEND;TZID=America/New_York:20240125T200000
DTSTAMP:20260421T112346
CREATED:20240102T100926Z
LAST-MODIFIED:20240105T124029Z
UID:17162-1706205600-1706212800@bell.works
SUMMARY:Trivia Thursdays at World's Fair
DESCRIPTION:Head to World’s Fair every Thursday 6-8pm with Anti-Normal Trivia! Sign up at 4:30pm!
URL:https://bell.works/events/trivia-thursdays-at-worlds-fair-6/
LOCATION:Bar Bella
CATEGORIES:Chicagoland
ATTACH;FMTTYPE=image/jpeg:https://bell.works/wp-content/uploads/2024/01/Trivia-Thursdays-at-Worlds-Fair.jpeg
END:VEVENT
BEGIN:VEVENT
DTSTART;TZID=America/New_York:20240131T150000
DTEND;TZID=America/New_York:20240131T180000
DTSTAMP:20260421T112346
CREATED:20240131T071126Z
LAST-MODIFIED:20240131T071310Z
UID:17208-1706713200-1706724000@bell.works
SUMMARY:Sundown Sessions: Angelo + Jessica
DESCRIPTION:Enjoy live music from Angelo Cicco + Jessica Lopez from 3-6pm at World’s Fair on February 15th! \nEnjoy Half-off bar bites + sips from 4-6pm!
URL:https://bell.works/events/sundown-sessions-angelo-jessica/
LOCATION:Bar Bella
CATEGORIES:Chicagoland
ATTACH;FMTTYPE=image/jpeg:https://bell.works/wp-content/uploads/2024/01/Taylor-Swift-Night-at-Worlds-Fair-scaled.jpg
END:VEVENT
BEGIN:VEVENT
DTSTART;TZID=America/New_York:20240201T180000
DTEND;TZID=America/New_York:20240201T200000
DTSTAMP:20260421T112346
CREATED:20240131T215223Z
LAST-MODIFIED:20240131T215314Z
UID:17251-1706810400-1706817600@bell.works
SUMMARY:Trivia Thursdays at World's Fair
DESCRIPTION:Head to World’s Fair every Thursday 6-8pm with Anti-Normal Trivia! Sign up at 4:30pm!
URL:https://bell.works/events/trivia-thursdays-at-worlds-fair-7/
LOCATION:Bar Bella
CATEGORIES:Chicagoland
ATTACH;FMTTYPE=image/jpeg:https://bell.works/wp-content/uploads/2024/01/TSBPM8bX.jpeg
END:VEVENT
BEGIN:VEVENT
DTSTART;TZID=America/New_York:20240207T120000
DTEND;TZID=America/New_York:20240207T130000
DTSTAMP:20260421T112346
CREATED:20240131T214438Z
LAST-MODIFIED:20240131T214735Z
UID:17244-1707307200-1707310800@bell.works
SUMMARY:Wednesday Reset with FitLab
DESCRIPTION:Yoga Therapy with Tasha happens every Wednesday @ 12:15 in FitLab \nJoin Tasha every Wednesday afternoon to reset! Tasha is a Therapeutic Yoga Specialist that specializes in shoulders\, hips\, spine\, illness recovery\, stress\, trauma and anxiety. All fitness levels welcome to class. No experience necessary. \nRecovering from an injury? You can also book a private Therapeutic Yoga Session with her! Designed specifically for you. \nOpen to all members + non-members this month! \nPlease email sarah.enzenbacher@kinemafitness.com for more details.
URL:https://bell.works/events/wednesday-reset-with-fitlab/
LOCATION:Bar Bella
CATEGORIES:Chicagoland
ATTACH;FMTTYPE=image/jpeg:https://bell.works/wp-content/uploads/2024/01/tEwvONpr-scaled.jpeg
END:VEVENT
END:VCALENDAR