BEGIN:VCALENDAR
VERSION:2.0
PRODID:-//Work, Shop, Play | Inspired Real Estate - ECPv6.15.20//NONSGML v1.0//EN
CALSCALE:GREGORIAN
METHOD:PUBLISH
X-WR-CALNAME:Work, Shop, Play | Inspired Real Estate
X-ORIGINAL-URL:https://bell.works
X-WR-CALDESC:Events for Work, Shop, Play | Inspired Real Estate
REFRESH-INTERVAL;VALUE=DURATION:PT1H
X-Robots-Tag:noindex
X-PUBLISHED-TTL:PT1H
BEGIN:VTIMEZONE
TZID:America/New_York
BEGIN:DAYLIGHT
TZOFFSETFROM:-0500
TZOFFSETTO:-0400
TZNAME:EDT
DTSTART:20250309T070000
END:DAYLIGHT
BEGIN:STANDARD
TZOFFSETFROM:-0400
TZOFFSETTO:-0500
TZNAME:EST
DTSTART:20251102T060000
END:STANDARD
BEGIN:DAYLIGHT
TZOFFSETFROM:-0500
TZOFFSETTO:-0400
TZNAME:EDT
DTSTART:20260308T070000
END:DAYLIGHT
BEGIN:STANDARD
TZOFFSETFROM:-0400
TZOFFSETTO:-0500
TZNAME:EST
DTSTART:20261101T060000
END:STANDARD
BEGIN:DAYLIGHT
TZOFFSETFROM:-0500
TZOFFSETTO:-0400
TZNAME:EDT
DTSTART:20270314T070000
END:DAYLIGHT
BEGIN:STANDARD
TZOFFSETFROM:-0400
TZOFFSETTO:-0500
TZNAME:EST
DTSTART:20271107T060000
END:STANDARD
END:VTIMEZONE
BEGIN:VEVENT
DTSTART;TZID=America/New_York:20260422T120000
DTEND;TZID=America/New_York:20260422T130000
DTSTAMP:20260422T173229
CREATED:20260331T153355Z
LAST-MODIFIED:20260331T153517Z
UID:22714-1776859200-1776862800@bell.works
SUMMARY:Earth Day Grounding Yoga Flow with FitLab
DESCRIPTION:FitLab Presents: Earth Day Grounding Yoga Flow \nJoin us at the Fit Lab Group Studio (outside if weather permits) on Wednesday April 22 at 12:15pm! \nHonor Earth Day with a grounding yoga flow that reconnects you to your breath and the natural world through mindful movement. This gentle yet energizing class will leave you feeling balanced\, refreshed\, and rooted. \nOpen to all building tenants\, public + community! \nSign up here!
URL:https://bell.works/events/earth-day-grounding-yoga-flow-with-fitlab/
CATEGORIES:Chicagoland
ATTACH;FMTTYPE=image/jpeg:https://bell.works/wp-content/uploads/2025/08/Bell_Works_Co_Space_54_copy-scaled.jpg
END:VEVENT
BEGIN:VEVENT
DTSTART;TZID=America/New_York:20260422T173000
DTEND;TZID=America/New_York:20260422T193000
DTSTAMP:20260422T173229
CREATED:20260331T153231Z
LAST-MODIFIED:20260331T153256Z
UID:22713-1776879000-1776886200@bell.works
SUMMARY:Trivia Wednesday
DESCRIPTION:Join us + Anti Normal Trivia every Wednesday for Trivia Night at Bell Market from 5:30-7:30pm! \nCome early for sign-up and enjoy a Happy Hour menu from 3-6pm at Bell Market!
URL:https://bell.works/events/trivia-wednesday-11/
CATEGORIES:Chicagoland
ATTACH;FMTTYPE=image/jpeg:https://bell.works/wp-content/uploads/2026/02/ocotmvMy-1.jpeg
END:VEVENT
END:VCALENDAR