BEGIN:VCALENDAR
VERSION:2.0
PRODID:-//Work, Shop, Play | Inspired Real Estate - ECPv6.15.20//NONSGML v1.0//EN
CALSCALE:GREGORIAN
METHOD:PUBLISH
X-WR-CALNAME:Work, Shop, Play | Inspired Real Estate
X-ORIGINAL-URL:https://bell.works
X-WR-CALDESC:Events for Work, Shop, Play | Inspired Real Estate
REFRESH-INTERVAL;VALUE=DURATION:PT1H
X-Robots-Tag:noindex
X-PUBLISHED-TTL:PT1H
BEGIN:VTIMEZONE
TZID:America/New_York
BEGIN:DAYLIGHT
TZOFFSETFROM:-0500
TZOFFSETTO:-0400
TZNAME:EDT
DTSTART:20230312T070000
END:DAYLIGHT
BEGIN:STANDARD
TZOFFSETFROM:-0400
TZOFFSETTO:-0500
TZNAME:EST
DTSTART:20231105T060000
END:STANDARD
BEGIN:DAYLIGHT
TZOFFSETFROM:-0500
TZOFFSETTO:-0400
TZNAME:EDT
DTSTART:20240310T070000
END:DAYLIGHT
BEGIN:STANDARD
TZOFFSETFROM:-0400
TZOFFSETTO:-0500
TZNAME:EST
DTSTART:20241103T060000
END:STANDARD
BEGIN:DAYLIGHT
TZOFFSETFROM:-0500
TZOFFSETTO:-0400
TZNAME:EDT
DTSTART:20250309T070000
END:DAYLIGHT
BEGIN:STANDARD
TZOFFSETFROM:-0400
TZOFFSETTO:-0500
TZNAME:EST
DTSTART:20251102T060000
END:STANDARD
END:VTIMEZONE
BEGIN:VEVENT
DTSTART;TZID=America/New_York:20240703T110000
DTEND;TZID=America/New_York:20240703T160000
DTSTAMP:20260420T105749
CREATED:20240701T092541Z
LAST-MODIFIED:20240701T092713Z
UID:18231-1720004400-1720022400@bell.works
SUMMARY:Bell Works Fresh
DESCRIPTION:Shop local makers\, bakers\, and artists from 11am-4pm weekly on Wednesday in the Main Atrium while enjoying live music!
URL:https://bell.works/events/bell-works-fresh-39/
LOCATION:Bar Bella
CATEGORIES:New Jersey
ATTACH;FMTTYPE=image/jpeg:https://bell.works/wp-content/uploads/2024/05/517A4044-scaled.jpg
END:VEVENT
BEGIN:VEVENT
DTSTART;TZID=America/New_York:20240710T110000
DTEND;TZID=America/New_York:20240710T160000
DTSTAMP:20260420T105749
CREATED:20240701T092814Z
LAST-MODIFIED:20240701T092837Z
UID:18233-1720609200-1720627200@bell.works
SUMMARY:Bell Works Fresh
DESCRIPTION:Shop local makers\, bakers\, and artists from 11am-4pm weekly on Wednesday in the Main Atrium while enjoying live music!
URL:https://bell.works/events/bell-works-fresh-40/
LOCATION:Bar Bella
CATEGORIES:New Jersey
ATTACH;FMTTYPE=image/jpeg:https://bell.works/wp-content/uploads/2024/05/517A4044-scaled.jpg
END:VEVENT
BEGIN:VEVENT
DTSTART;TZID=America/New_York:20240710T160000
DTEND;TZID=America/New_York:20240710T170000
DTSTAMP:20260420T105749
CREATED:20240701T093837Z
LAST-MODIFIED:20240708T150257Z
UID:18241-1720627200-1720630800@bell.works
SUMMARY:Read to a Therapy Dog
DESCRIPTION:Grab your little ones and meet us at the Holmdel Library where you can read to a certified therapy dog\, Aella on July 10 from 4-4:50pm! \nRegister here!
URL:https://bell.works/events/read-to-a-therapy-dog/
LOCATION:Bar Bella
CATEGORIES:New Jersey
ATTACH;FMTTYPE=image/jpeg:https://bell.works/wp-content/uploads/2024/07/untitled-92-scaled.jpg
END:VEVENT
BEGIN:VEVENT
DTSTART;TZID=America/New_York:20240711T173000
DTEND;TZID=America/New_York:20240711T183000
DTSTAMP:20260420T105749
CREATED:20240701T102633Z
LAST-MODIFIED:20240701T103246Z
UID:18247-1720719000-1720722600@bell.works
SUMMARY:Latin Night: Salsa Class with Salsa at the Shore
DESCRIPTION:VAMOS! \nLatin Night is BACK and better than ever! Join us on Thursday July 11 at Bar Bella! \nRegister for a Salsa Class at 5:30pm with Salsa at the Shore here\, then you can show off your skills during Lulada Club’s live performance at 6:30pm!
URL:https://bell.works/events/latin-night-salsa-class-with-salsa-at-the-shore/
LOCATION:Bar Bella
CATEGORIES:New Jersey
ATTACH;FMTTYPE=image/jpeg:https://bell.works/wp-content/uploads/2024/07/0008-scaled.jpg
END:VEVENT
BEGIN:VEVENT
DTSTART;TZID=America/New_York:20240711T183000
DTEND;TZID=America/New_York:20240711T213000
DTSTAMP:20260420T105749
CREATED:20240701T103457Z
LAST-MODIFIED:20240701T103707Z
UID:18250-1720722600-1720733400@bell.works
SUMMARY:Latin Night: Live Music with Lulada Club
DESCRIPTION:VAMOS! \nLatin Night is BACK and better than ever! \nJoin us and Lulada Club for Latin Night from 6:30-9:30pm on Thursday July 11 at Bar Bella! \nRegister for a Salsa Class at 5:30pm with Salsa at the Shore here\, then you can show off your skills during the band’s live performance at 6:30pm!
URL:https://bell.works/events/latin-night-live-music-with-lulada-club/
LOCATION:Bar Bella
CATEGORIES:New Jersey
ATTACH;FMTTYPE=image/jpeg:https://bell.works/wp-content/uploads/2024/07/bahpt6pziothmqs3kqc5-e1719830216518.jpg
END:VEVENT
BEGIN:VEVENT
DTSTART;TZID=America/New_York:20240713T170000
DTEND;TZID=America/New_York:20240713T200000
DTSTAMP:20260420T105749
CREATED:20240701T104327Z
LAST-MODIFIED:20240701T104426Z
UID:18256-1720890000-1720900800@bell.works
SUMMARY:Sundown Sessions: feat. DJ Skillz
DESCRIPTION:Enjoy live music featuring DJ Skillz at Bar Bella on Saturday July 13 from 5-8pm! \nThe bar opens at 4pm!
URL:https://bell.works/events/sundown-sessions-feat-dj-skillz-3/
LOCATION:Bar Bella
CATEGORIES:New Jersey
ATTACH;FMTTYPE=image/jpeg:https://bell.works/wp-content/uploads/2024/04/0180-scaled.jpg
END:VEVENT
BEGIN:VEVENT
DTSTART;TZID=America/New_York:20240717T110000
DTEND;TZID=America/New_York:20240717T160000
DTSTAMP:20260420T105749
CREATED:20240701T092901Z
LAST-MODIFIED:20240701T092918Z
UID:18235-1721214000-1721232000@bell.works
SUMMARY:Bell Works Fresh
DESCRIPTION:Shop local makers\, bakers\, and artists from 11am-4pm weekly on Wednesday in the Main Atrium while enjoying live music!
URL:https://bell.works/events/bell-works-fresh-41/
LOCATION:Bar Bella
CATEGORIES:New Jersey
ATTACH;FMTTYPE=image/jpeg:https://bell.works/wp-content/uploads/2024/05/517A4044-scaled.jpg
END:VEVENT
BEGIN:VEVENT
DTSTART;TZID=America/New_York:20240720T120000
DTEND;TZID=America/New_York:20240720T170000
DTSTAMP:20260420T105749
CREATED:20240701T104548Z
LAST-MODIFIED:20240701T193253Z
UID:18258-1721476800-1721494800@bell.works
SUMMARY:Bell Works Fresh Saturday Market
DESCRIPTION:Shop local makers\, bakers\, and artists from 12-5pm in the Main Atrium on Saturday July 20 while enjoying live music 1-4pm!
URL:https://bell.works/events/bell-works-fresh-saturday-market-7/
LOCATION:Bell Works\, 101 Crawfords Corner Rd\, Holmdel\, NJ\, 07733\, United States
CATEGORIES:New Jersey
ATTACH;FMTTYPE=image/jpeg:https://bell.works/wp-content/uploads/2024/04/yWejNPIR.jpeg
END:VEVENT
BEGIN:VEVENT
DTSTART;TZID=America/New_York:20240720T180000
DTEND;TZID=America/New_York:20240720T210000
DTSTAMP:20260420T105749
CREATED:20240701T105045Z
LAST-MODIFIED:20240701T105350Z
UID:18259-1721498400-1721509200@bell.works
SUMMARY:Disco Night at Bar Bella
DESCRIPTION:Follow the call of the disco ball! \nEnjoy live all-vinyl disco music featuring DJ Foggy Notion at Bar Bella for Disco Night on Saturday July 20 from 6-9pm! \nThe bar opens at 4pm!
URL:https://bell.works/events/disco-night-at-bar-bella-4/
LOCATION:Bar Bella
CATEGORIES:New Jersey
ATTACH;FMTTYPE=image/jpeg:https://bell.works/wp-content/uploads/2024/07/untitled-38-scaled.jpg
END:VEVENT
BEGIN:VEVENT
DTSTART;TZID=America/New_York:20240722T190000
DTEND;TZID=America/New_York:20240722T200000
DTSTAMP:20260420T105749
CREATED:20240701T105552Z
LAST-MODIFIED:20240701T105950Z
UID:18262-1721674800-1721678400@bell.works
SUMMARY:Sound Healing with Enchanted Blossoms
DESCRIPTION:Reset and relax with the calming sound healing hosted by Stacy Newfeld from Enchanted Blossoms on Monday July 22 at 7pm by Zen Lake! \nRegister here!
URL:https://bell.works/events/sound-healing-with-enchanted-blossoms-8/
LOCATION:Bell Works\, 101 Crawfords Corner Rd\, Holmdel\, NJ\, 07733\, United States
CATEGORIES:New Jersey
ATTACH;FMTTYPE=image/png:https://bell.works/wp-content/uploads/2024/04/Capture-3.png
END:VEVENT
BEGIN:VEVENT
DTSTART;TZID=America/New_York:20240724T110000
DTEND;TZID=America/New_York:20240724T120000
DTSTAMP:20260420T105749
CREATED:20240701T110133Z
LAST-MODIFIED:20240724T210031Z
UID:18264-1721818800-1721822400@bell.works
SUMMARY:Peas + Carrots with the Holmdel Library
DESCRIPTION:Enjoy interactive music with the Holmdel Library while singing\, dancing\, and clapping along with Peas and Carrots on July 26 from 11-11:45am!
URL:https://bell.works/events/peas-carrots-with-the-holmdel-library/
LOCATION:Bell Works\, 101 Crawfords Corner Rd\, Holmdel\, NJ\, 07733\, United States
CATEGORIES:New Jersey
ATTACH;FMTTYPE=image/jpeg:https://bell.works/wp-content/uploads/2024/07/20210817_BellWorksHolmdelNJ-0355-scaled.jpg
END:VEVENT
BEGIN:VEVENT
DTSTART;TZID=America/New_York:20240724T110000
DTEND;TZID=America/New_York:20240724T160000
DTSTAMP:20260420T105749
CREATED:20240701T092946Z
LAST-MODIFIED:20240701T093041Z
UID:18236-1721818800-1721836800@bell.works
SUMMARY:Bell Works Fresh
DESCRIPTION:Shop local makers\, bakers\, and artists from 11am-4pm weekly on Wednesday in the Main Atrium while enjoying live music!
URL:https://bell.works/events/bell-works-fresh-42/
LOCATION:Bar Bella
CATEGORIES:New Jersey
ATTACH;FMTTYPE=image/jpeg:https://bell.works/wp-content/uploads/2024/05/517A4044-scaled.jpg
END:VEVENT
BEGIN:VEVENT
DTSTART;TZID=America/New_York:20240725T170000
DTEND;TZID=America/New_York:20240725T200000
DTSTAMP:20260420T105749
CREATED:20240701T192904Z
LAST-MODIFIED:20240722T215744Z
UID:18314-1721926800-1721937600@bell.works
SUMMARY:Yappy Hour
DESCRIPTION:Your furry friends need a night out too! Join us\, Bark for Life and Rugged Paw at our next Yappy hour at Bar Bella on Thursday July 25 from 5- 8pm with live music feat. DJ Pepeloco! \nThe bar opens at 4pm!
URL:https://bell.works/events/yappy-hour-3/
LOCATION:Bar Bella
CATEGORIES:New Jersey
ATTACH;FMTTYPE=image/jpeg:https://bell.works/wp-content/uploads/2024/07/0120-scaled.jpg
END:VEVENT
BEGIN:VEVENT
DTSTART;TZID=America/New_York:20240727T170000
DTEND;TZID=America/New_York:20240727T200000
DTSTAMP:20260420T105749
CREATED:20240701T110533Z
LAST-MODIFIED:20240701T110619Z
UID:18266-1722099600-1722110400@bell.works
SUMMARY:Sundown Sessions: feat. DJ Robbie Woodside
DESCRIPTION:Enjoy live music featuring DJ Robbie Woodside at Bar Bella on Saturday July 27 from 5-8pm! \nThe bar opens at 4pm!
URL:https://bell.works/events/sundown-sessions-feat-dj-robbie-woodside-5/
LOCATION:Bar Bella
CATEGORIES:New Jersey
ATTACH;FMTTYPE=image/jpeg:https://bell.works/wp-content/uploads/2024/04/5Wiejt1A-1-e1714391948542.jpeg
END:VEVENT
BEGIN:VEVENT
DTSTART;TZID=America/New_York:20240731T110000
DTEND;TZID=America/New_York:20240731T160000
DTSTAMP:20260420T105749
CREATED:20240701T093025Z
LAST-MODIFIED:20240701T093054Z
UID:18237-1722423600-1722441600@bell.works
SUMMARY:Bell Works Fresh
DESCRIPTION:Shop local makers\, bakers\, and artists from 11am-4pm weekly on Wednesday in the Main Atrium while enjoying live music!
URL:https://bell.works/events/bell-works-fresh-43/
LOCATION:Bar Bella
CATEGORIES:New Jersey
ATTACH;FMTTYPE=image/jpeg:https://bell.works/wp-content/uploads/2024/05/517A4044-scaled.jpg
END:VEVENT
END:VCALENDAR