BEGIN:VCALENDAR
VERSION:2.0
PRODID:-//Work, Shop, Play | Inspired Real Estate - ECPv6.15.20//NONSGML v1.0//EN
CALSCALE:GREGORIAN
METHOD:PUBLISH
X-ORIGINAL-URL:https://bell.works
X-WR-CALDESC:Events for Work, Shop, Play | Inspired Real Estate
REFRESH-INTERVAL;VALUE=DURATION:PT1H
X-Robots-Tag:noindex
X-PUBLISHED-TTL:PT1H
BEGIN:VTIMEZONE
TZID:America/New_York
BEGIN:DAYLIGHT
TZOFFSETFROM:-0500
TZOFFSETTO:-0400
TZNAME:EDT
DTSTART:20220313T070000
END:DAYLIGHT
BEGIN:STANDARD
TZOFFSETFROM:-0400
TZOFFSETTO:-0500
TZNAME:EST
DTSTART:20221106T060000
END:STANDARD
BEGIN:DAYLIGHT
TZOFFSETFROM:-0500
TZOFFSETTO:-0400
TZNAME:EDT
DTSTART:20230312T070000
END:DAYLIGHT
BEGIN:STANDARD
TZOFFSETFROM:-0400
TZOFFSETTO:-0500
TZNAME:EST
DTSTART:20231105T060000
END:STANDARD
BEGIN:DAYLIGHT
TZOFFSETFROM:-0500
TZOFFSETTO:-0400
TZNAME:EDT
DTSTART:20240310T070000
END:DAYLIGHT
BEGIN:STANDARD
TZOFFSETFROM:-0400
TZOFFSETTO:-0500
TZNAME:EST
DTSTART:20241103T060000
END:STANDARD
END:VTIMEZONE
BEGIN:VEVENT
DTSTART;VALUE=DATE:20230101
DTEND;VALUE=DATE:20230201
DTSTAMP:20260422T035457
CREATED:20221229T174112Z
LAST-MODIFIED:20221229T174547Z
UID:15930-1672531200-1675209599@bell.works
SUMMARY:Groove Art Exhibition
DESCRIPTION:Join us all month long at the Groove Art Exhibiton! \nFeaturing local artist\, Haley Potter\, in collaboration with Bell Works Creative Director\, Paola Zamudio\, featuring work by Sarah Meyohas!
URL:https://bell.works/events/groove-art-exhibition/
LOCATION:Bell Works\, 101 Crawfords Corner Rd\, Holmdel\, NJ\, 07733\, United States
CATEGORIES:New Jersey
ATTACH;FMTTYPE=image/jpeg:https://bell.works/wp-content/uploads/2022/12/jessica-pamp-JNTSoyb_bbw-unsplash.jpg
END:VEVENT
BEGIN:VEVENT
DTSTART;TZID=America/New_York:20230126T170000
DTEND;TZID=America/New_York:20230126T200000
DTSTAMP:20260422T035457
CREATED:20220831T164333Z
LAST-MODIFIED:20230123T025449Z
UID:15566-1674752400-1674763200@bell.works
SUMMARY:Bell Market Brews + Bites
DESCRIPTION:Head to Bell Market for their Tap Takeover series\, Brews + Bites! Featuring a rotating local brewery each month\, they’ll be pouring a mix of signature and seasonal brews to sip and enjoy along with some delicious bites + small plates. This month is in collaboration with Alternate Ending! \nTickets Here!
URL:https://bell.works/events/brews-bites/
LOCATION:Bell Works\, 101 Crawfords Corner Rd\, Holmdel\, NJ\, 07733\, United States
CATEGORIES:New Jersey
ATTACH;FMTTYPE=image/jpeg:https://bell.works/wp-content/uploads/2020/09/red-tank-brewing-31-of-53.jpg
END:VEVENT
BEGIN:VEVENT
DTSTART;TZID=America/New_York:20230126T180000
DTEND;TZID=America/New_York:20230126T190000
DTSTAMP:20260422T035457
CREATED:20220525T160637Z
LAST-MODIFIED:20230109T150656Z
UID:15254-1674756000-1674759600@bell.works
SUMMARY:Artist Talk
DESCRIPTION:Join us for an Artist Talk featuring Bell Works Creative Director and Lead Designer\, Paola Zamudio\, as she asks the artist behind the “Groove” Winter Exhibition at Bell Works\, Haley Potter.  \nLearn about the story + inspiration behind the exhibition! \nRSVP HERE
URL:https://bell.works/events/artist-talk/
LOCATION:Bell Works\, 101 Crawfords Corner Rd\, Holmdel\, NJ\, 07733\, United States
CATEGORIES:New Jersey
ATTACH;FMTTYPE=image/jpeg:https://bell.works/wp-content/uploads/2022/05/WsHLIBXA-1-e1673276758548.jpg
END:VEVENT
END:VCALENDAR