BEGIN:VCALENDAR
VERSION:2.0
PRODID:-//Work, Shop, Play | Inspired Real Estate - ECPv6.15.20//NONSGML v1.0//EN
CALSCALE:GREGORIAN
METHOD:PUBLISH
X-WR-CALNAME:Work, Shop, Play | Inspired Real Estate
X-ORIGINAL-URL:https://bell.works
X-WR-CALDESC:Events for Work, Shop, Play | Inspired Real Estate
REFRESH-INTERVAL;VALUE=DURATION:PT1H
X-Robots-Tag:noindex
X-PUBLISHED-TTL:PT1H
BEGIN:VTIMEZONE
TZID:America/New_York
BEGIN:DAYLIGHT
TZOFFSETFROM:-0500
TZOFFSETTO:-0400
TZNAME:EDT
DTSTART:20230312T070000
END:DAYLIGHT
BEGIN:STANDARD
TZOFFSETFROM:-0400
TZOFFSETTO:-0500
TZNAME:EST
DTSTART:20231105T060000
END:STANDARD
BEGIN:DAYLIGHT
TZOFFSETFROM:-0500
TZOFFSETTO:-0400
TZNAME:EDT
DTSTART:20240310T070000
END:DAYLIGHT
BEGIN:STANDARD
TZOFFSETFROM:-0400
TZOFFSETTO:-0500
TZNAME:EST
DTSTART:20241103T060000
END:STANDARD
BEGIN:DAYLIGHT
TZOFFSETFROM:-0500
TZOFFSETTO:-0400
TZNAME:EDT
DTSTART:20250309T070000
END:DAYLIGHT
BEGIN:STANDARD
TZOFFSETFROM:-0400
TZOFFSETTO:-0500
TZNAME:EST
DTSTART:20251102T060000
END:STANDARD
END:VTIMEZONE
BEGIN:VEVENT
DTSTART;TZID=America/New_York:20241030T110000
DTEND;TZID=America/New_York:20241030T160000
DTSTAMP:20260419T123758
CREATED:20240926T204315Z
LAST-MODIFIED:20240926T204352Z
UID:19151-1730286000-1730304000@bell.works
SUMMARY:Bell Works Fresh
DESCRIPTION:Shop local makers\, bakers\, and artists from 11am-4pm weekly on Wednesday in the Main Atrium while enjoying live music!
URL:https://bell.works/events/bell-works-fresh-16/
LOCATION:Bar Bella
CATEGORIES:New Jersey
ATTACH;FMTTYPE=image/jpeg:https://bell.works/wp-content/uploads/2024/07/517A4044-scaled-e1721755637819.jpg
END:VEVENT
BEGIN:VEVENT
DTSTART;TZID=America/New_York:20241030T180000
DTEND;TZID=America/New_York:20241030T210000
DTSTAMP:20260419T123758
CREATED:20241025T201511Z
LAST-MODIFIED:20241025T201627Z
UID:19343-1730311200-1730322000@bell.works
SUMMARY:Ghouls Night In
DESCRIPTION:Meet us at Velvet Boutique for a “Ghouls Night In” on Wednesday October 30 from 6-9pm! Enjoy a night of botox/injectables with Hello Hydration NJ\, a martini bar\, giveaways\, and angel card readings! \nRegister here to attend + register here for Botox!
URL:https://bell.works/events/ghouls-night-in/
CATEGORIES:New Jersey
ATTACH;FMTTYPE=image/jpeg:https://bell.works/wp-content/uploads/2024/10/DSC09249-scaled.jpg
END:VEVENT
END:VCALENDAR