BEGIN:VCALENDAR
VERSION:2.0
PRODID:-//Work, Shop, Play | Inspired Real Estate - ECPv6.15.20//NONSGML v1.0//EN
CALSCALE:GREGORIAN
METHOD:PUBLISH
X-ORIGINAL-URL:https://bell.works
X-WR-CALDESC:Events for Work, Shop, Play | Inspired Real Estate
REFRESH-INTERVAL;VALUE=DURATION:PT1H
X-Robots-Tag:noindex
X-PUBLISHED-TTL:PT1H
BEGIN:VTIMEZONE
TZID:America/New_York
BEGIN:DAYLIGHT
TZOFFSETFROM:-0500
TZOFFSETTO:-0400
TZNAME:EDT
DTSTART:20230312T070000
END:DAYLIGHT
BEGIN:STANDARD
TZOFFSETFROM:-0400
TZOFFSETTO:-0500
TZNAME:EST
DTSTART:20231105T060000
END:STANDARD
BEGIN:DAYLIGHT
TZOFFSETFROM:-0500
TZOFFSETTO:-0400
TZNAME:EDT
DTSTART:20240310T070000
END:DAYLIGHT
BEGIN:STANDARD
TZOFFSETFROM:-0400
TZOFFSETTO:-0500
TZNAME:EST
DTSTART:20241103T060000
END:STANDARD
BEGIN:DAYLIGHT
TZOFFSETFROM:-0500
TZOFFSETTO:-0400
TZNAME:EDT
DTSTART:20250309T070000
END:DAYLIGHT
BEGIN:STANDARD
TZOFFSETFROM:-0400
TZOFFSETTO:-0500
TZNAME:EST
DTSTART:20251102T060000
END:STANDARD
END:VTIMEZONE
BEGIN:VEVENT
DTSTART;TZID=America/New_York:20241119T180000
DTEND;TZID=America/New_York:20241119T190000
DTSTAMP:20260420T131425
CREATED:20241104T211930Z
LAST-MODIFIED:20241105T214004Z
UID:19433-1732039200-1732042800@bell.works
SUMMARY:danceFLOORED x Bell Works: Gratitude Edition
DESCRIPTION:Join us and Tootsie Olan for her signature\, legendary danceFLOORED class in the ballroom on November 19 from 6-7pm! \nEnjoy a dance class like none other. 100+ of us. Energy high. Beats thumping. Live DJ spinning. Ruthless joy. This has become the event that so many look forward to + open to all levels! THIS is how we find\, show\, celebrate gratitude.. danceFLOORED. \nRecommended for 10 yrs old + \, Register here!
URL:https://bell.works/events/dancefloored-x-bell-works-gratitude-edition/
CATEGORIES:New Jersey
ATTACH;FMTTYPE=image/jpeg:https://bell.works/wp-content/uploads/2024/10/untitled-73-scaled-e1728657856272.jpg
END:VEVENT
END:VCALENDAR