BEGIN:VCALENDAR
VERSION:2.0
PRODID:-//Work, Shop, Play | Inspired Real Estate - ECPv6.15.20//NONSGML v1.0//EN
CALSCALE:GREGORIAN
METHOD:PUBLISH
X-WR-CALNAME:Work, Shop, Play | Inspired Real Estate
X-ORIGINAL-URL:https://bell.works
X-WR-CALDESC:Events for Work, Shop, Play | Inspired Real Estate
REFRESH-INTERVAL;VALUE=DURATION:PT1H
X-Robots-Tag:noindex
X-PUBLISHED-TTL:PT1H
BEGIN:VTIMEZONE
TZID:America/New_York
BEGIN:DAYLIGHT
TZOFFSETFROM:-0500
TZOFFSETTO:-0400
TZNAME:EDT
DTSTART:20250309T070000
END:DAYLIGHT
BEGIN:STANDARD
TZOFFSETFROM:-0400
TZOFFSETTO:-0500
TZNAME:EST
DTSTART:20251102T060000
END:STANDARD
BEGIN:DAYLIGHT
TZOFFSETFROM:-0500
TZOFFSETTO:-0400
TZNAME:EDT
DTSTART:20260308T070000
END:DAYLIGHT
BEGIN:STANDARD
TZOFFSETFROM:-0400
TZOFFSETTO:-0500
TZNAME:EST
DTSTART:20261101T060000
END:STANDARD
BEGIN:DAYLIGHT
TZOFFSETFROM:-0500
TZOFFSETTO:-0400
TZNAME:EDT
DTSTART:20270314T070000
END:DAYLIGHT
BEGIN:STANDARD
TZOFFSETFROM:-0400
TZOFFSETTO:-0500
TZNAME:EST
DTSTART:20271107T060000
END:STANDARD
END:VTIMEZONE
BEGIN:VEVENT
DTSTART;TZID=America/New_York:20260404T110000
DTEND;TZID=America/New_York:20260404T140000
DTSTAMP:20260422T143342
CREATED:20260331T211019Z
LAST-MODIFIED:20260331T211518Z
UID:22720-1775300400-1775311200@bell.works
SUMMARY:Easter Festivities at The Gathering Shops
DESCRIPTION:Join us at The Gathering Shops on Saturday April 4 from 11am-2pm for a day of Easter Festivities! \nEnjoy photos with the Easter Bunny\, Hair Tinsel with Kate’s Hair Boutique\, shopping for the perfect Easter outfit\, and light sips + bites! \nPlus… a surprise at checkout when purchasing your perfect Easter outfit! \nWe’ll see you here!
URL:https://bell.works/events/easter-festivities-at-the-gathering-shops/
CATEGORIES:New Jersey
ATTACH;FMTTYPE=image/jpeg:https://bell.works/wp-content/uploads/2026/03/untitled-43-1-scaled.jpg
END:VEVENT
END:VCALENDAR